BEGIN:VCALENDAR
VERSION:2.0
PRODID:-//ChamberMaster//Event Calendar 2.0//EN
METHOD:PUBLISH
X-PUBLISHED-TTL:P3D
REFRESH-INTERVAL:P3D
CALSCALE:GREGORIAN
BEGIN:VEVENT
DTSTART;VALUE=DATE:20120204
DTEND;VALUE=DATE:20120205
TRANSP:TRANSPARENT
X-MICROSOFT-CDO-ALLDAYEVENT:TRUE
SUMMARY:Jewelry Showcase featuring Of All the Beads
DESCRIPTION:Hazel Brutsche will be participating in this juried jewelry event on Sat\, Feb. 4. Visit www.ofallthebeads.com to see samples of Hazel's work\, sign up for her newsletter\, receive a discount on event admission and/or learn about her donations to Let's Help Kids during the month of February.
X-ALT-DESC;FMTTYPE=text/html:<span style="color: #003455">Hazel Brutsche will be participating in this juried&nbsp\;jewelry event on <em><strong>Sat\, Feb.</strong></em></span><span color="#007300" style="color: #007300"> <span style="color: #003455"><em><strong>4.</strong></em>&nbsp\;Visit&nbsp\;</span><a href="http://r20.rs6.net/tn.jsp?llr=mkmuencab&amp\;et=1109066723426&amp\;s=393&amp\;e=001mKgmAY0JUo2aMEd3dz447MAlZ0EN5IECG1BkQfZqqL6LLygwgrMJSXx2bgCC1kfLfdgocTt82ph-pkvXpKk0unESMKnG-NmxoEz0qlo3ytvWoTVHUPEG3A==" shape="rect" style="color: #003455" target="_blank" title="http://r20.rs6.net/tn.jsp?llr=mkmuencab&amp\;et=1109066723426&amp\;s=393&amp\;e=001mKgmAY0JUo2aMEd3dz447MAlZ0EN5IECG1BkQfZqqL6LLygwgrMJSXx2bgCC1kfLfdgocTt82ph-pkvXpKk0unESMKnG-NmxoEz0qlo3ytvWoTVHUPEG3A==">www.ofallthebeads.com</a><span style="color: #003455">&nbsp\;to see samples of Hazel&#39\;s work\, sign up for her newsletter\, receive a discount on event admission and/or learn about her donations to Let&#39\;s Help Kids during the month of February.&nbsp\;<span _fck_bookmark="1" style="display: none">&nbsp\;</span></span></span>
LOCATION:McLean Jewelry Showcase McLean Community Center 1234 Ingleside Ave. McLean\, VA 22101
UID:e.1250.194
SEQUENCE:3
DTSTAMP:20260425T134915Z
URL:https://business.fallschurchchamber.org/events/details/jewelry-showcase-featuring-of-all-the-beads-02-04-2012-194
END:VEVENT

END:VCALENDAR
