BEGIN:VCALENDAR
VERSION:2.0
PRODID:-//ChamberMaster//Event Calendar 2.0//EN
METHOD:PUBLISH
X-PUBLISHED-TTL:P3D
REFRESH-INTERVAL:P3D
CALSCALE:GREGORIAN
BEGIN:VEVENT
DTSTART:20120516T200000Z
DTEND:20120516T220000Z
X-MICROSOFT-CDO-ALLDAYEVENT:FALSE
SUMMARY:Joe Theismann and Virginia Commerce Bank present Game Plan for Success
DESCRIPTION:Please join Virginia Commerce Bank and former Washington Redskins quarterback Joe Theismann for his presentation "Game Plan for Success." \n\n	This event is specifically designed for professionals in accounting and will satisfy one hour of CPE credit.\n\n	\n\n	Cocktails and hors d'oeuvres will be served\, and the first 100 registered guests will receive autographed pictures of Joe Theismann. Space is limited\; please register with Amanda Creech at 703-633-6120 ext. 135
X-ALT-DESC;FMTTYPE=text/html:<p>\n	<span style="font-size: 12px"><span style="font-family: arial"><span style="font-size: 14px">Please join <strong>Virginia Commerce Bank</strong> and former Washington Redskins quarterback <strong>Joe Theismann</strong> for his presentation &quot\;Game Plan for Success.&quot\; </span></span></span></p>\n<p>\n	<span style="font-size: 12px"><span style="font-family: arial">This event is <strong>specifically designed for professionals in accounting</strong> and will satisfy <strong>one hour of CPE credit</strong>.<br />\n	<br />\n	Cocktails and hors d&#39\;oeuvres will be served\, and the first 100 registered guests will receive autographed pictures of Joe Theismann. Space is limited\; please register with Amanda Creech at 703-633-6120 ext. 135</span></span><br />\n	&nbsp\;</p>\n
LOCATION:The Tower Club 8000 Towers Crescent Drive Suite 1700 Vienna\, VA 22182
UID:e.1250.262
SEQUENCE:3
DTSTAMP:20260425T165346Z
URL:https://business.fallschurchchamber.org/events/details/joe-theismann-and-virginia-commerce-bank-present-game-plan-for-success-05-16-2012-262
END:VEVENT

END:VCALENDAR
