BEGIN:VCALENDAR
VERSION:2.0
PRODID:-//ChamberMaster//Event Calendar 2.0//EN
METHOD:PUBLISH
X-PUBLISHED-TTL:P3D
REFRESH-INTERVAL:P3D
CALSCALE:GREGORIAN
BEGIN:VEVENT
DTSTART:20111119T143000Z
DTEND:20111119T213000Z
X-MICROSOFT-CDO-ALLDAYEVENT:FALSE
SUMMARY:"Learning the Language of Spirit"
DESCRIPTION:Your intuition and your guides in the spirit world talk to you through a new\n\n	and different vocabulary. It is a language of personal\, universal\, and\n\n	archetypal symbols\, which may seem subtle but are loaded with\n\n	information. Learn how to decode this sometimes cryptic language\, and\n\n	discover the methods that give meaning to your intuitive insights and to\n\n	spirit's messages for you!
X-ALT-DESC;FMTTYPE=text/html:<p align="left">\n	<span style="font-size: 12px"><font face="TTFF5C1C00t00"><font face="TTFF5C1C00t00">Your intuition and your guides in the spirit world talk to you through a new</font></font></span></p>\n<p align="left">\n	<span style="font-size: 12px"><font face="TTFF5C1C00t00"><font face="TTFF5C1C00t00">and different vocabulary. It is a language of personal\, universal\, and</font></font></span></p>\n<p align="left">\n	<span style="font-size: 12px"><font face="TTFF5C1C00t00"><font face="TTFF5C1C00t00">archetypal symbols\, which may seem subtle but are loaded with</font></font></span></p>\n<p align="left">\n	<span style="font-size: 12px"><font face="TTFF5C1C00t00"><font face="TTFF5C1C00t00">information. Learn how to decode this sometimes cryptic language\, and</font></font></span></p>\n<p align="left">\n	<span style="font-size: 12px"><font face="TTFF5C1C00t00"><font face="TTFF5C1C00t00">discover the methods that give meaning to your intuitive insights and to</font></font></span></p>\n<p>\n	<span style="font-size: 12px"><font face="TTFF5C1C00t00"><font face="TTFF5C1C00t00">spirit&rsquo\;s messages for you!</font></font></span><font face="TTFF5C1C00t00" size="3"><font face="TTFF5C1C00t00" size="3"><span _fck_bookmark="1" style="display: none">&nbsp\;</span></font></font></p>\n
LOCATION:The Center For Spiritual Enlightenment 222 N. Washington St. Falls Church
UID:e.1250.175
SEQUENCE:3
DTSTAMP:20260423T071259Z
URL:https://business.fallschurchchamber.org/events/details/learning-the-language-of-spirit-11-19-2011-175
END:VEVENT

END:VCALENDAR
