BEGIN:VCALENDAR
VERSION:2.0
PRODID:-//ChamberMaster//Event Calendar 2.0//EN
METHOD:PUBLISH
X-PUBLISHED-TTL:P3D
REFRESH-INTERVAL:P3D
CALSCALE:GREGORIAN
BEGIN:VEVENT
DTSTART;VALUE=DATE:20120625
DTEND;VALUE=DATE:20120626
TRANSP:TRANSPARENT
X-MICROSOFT-CDO-ALLDAYEVENT:TRUE
SUMMARY:Linda Vroegindewey Visiting Artist at Stifel & Capra
DESCRIPTION:Stifel & Capra is pleased to welcome June visiting artist Linda Vroegindewey of Clay Whimsey. Linda will be showing her creations in the studio upstairs throughout the month of June. Stifel & Capra is located at 260 W. Broad St.\, Falls Church\, VA 22046 and is open Monday through Saturday\, 10am-5pm\, open Sunday\, 12noon- 5pm.\n\nLinda says "Welcome to my whimsical adventures in clay. I am a clay artist on a journey of discovery guided by a sense of childlike wonder. I am serious about my art\, but my art is not serious. I hope my work makes you smile."
X-ALT-DESC;FMTTYPE=text/html:Stifel &amp\; Capra is pleased to welcome June visiting artist Linda Vroegindewey of Clay Whimsey. Linda will be showing her creations in the studio upstairs throughout the month of June. Stifel &amp\; Capra is located at 260 W. Broad St.\, Falls Church\, VA 22046 and is open Monday through Saturday\, 10am-5pm\, open Sunday\, 12noon- 5pm.<br />\nLinda says &quot\;Welcome to my whimsical adventures in clay. I am a clay artist on a journey of discovery guided by a sense of childlike wonder. I am serious about my art\, but my art is not serious. I hope my work makes you smile.&quot\;<br />\n&nbsp\;
LOCATION:Stifel & Capra 260 West Broad Street\, Falls Church\, VA 22046
UID:e.1250.285
SEQUENCE:3
DTSTAMP:20260425T184647Z
URL:https://business.fallschurchchamber.org/events/details/linda-vroegindewey-visiting-artist-at-stifel-capra-06-25-2012-285
END:VEVENT

END:VCALENDAR
