BEGIN:VCALENDAR
VERSION:2.0
PRODID:-//ChamberMaster//Event Calendar 2.0//EN
METHOD:PUBLISH
X-PUBLISHED-TTL:P3D
REFRESH-INTERVAL:P3D
CALSCALE:GREGORIAN
BEGIN:VEVENT
DTSTART:20110914T220000Z
DTEND:20110915T000000Z
X-MICROSOFT-CDO-ALLDAYEVENT:FALSE
SUMMARY:Linx Young Professionals Networking Mixer
DESCRIPTION:Come out and join us for another great young professionals mixer! Take this opportunity to network with other young professionals while enjoying good food and great beer. Don't forget your business card so you can enter our raffle and win some great prizes!
X-ALT-DESC;FMTTYPE=text/html:<p>\n	Come out and join us for another great young professionals mixer! Take this opportunity to network with other young professionals while enjoying good food and great beer. Don&#39\;t forget your business card so you can enter our raffle and win some great prizes!<br />\n	<span _fck_bookmark="1" style="display: none">&nbsp\;</span></p>\n
LOCATION:Mad Fox Brewing Company 444 West Broad Street\, Suite 1 Falls Church\, VA 22046
UID:e.1250.13
SEQUENCE:3
DTSTAMP:20260423T044505Z
URL:https://business.fallschurchchamber.org/events/details/linx-young-professionals-networking-mixer-09-14-2011-13
END:VEVENT

END:VCALENDAR
