BEGIN:VCALENDAR
VERSION:2.0
PRODID:-//ChamberMaster//Event Calendar 2.0//EN
METHOD:PUBLISH
X-PUBLISHED-TTL:P3D
REFRESH-INTERVAL:P3D
CALSCALE:GREGORIAN
BEGIN:VEVENT
DTSTART;VALUE=DATE:20121023
DTEND;VALUE=DATE:20121024
TRANSP:TRANSPARENT
X-MICROSOFT-CDO-ALLDAYEVENT:TRUE
SUMMARY:Little City Studios Holiday Open House
DESCRIPTION:Sunday\, December 16\n\nLittle City Studios Holiday Open House\n\nSunday\, December 16\, 12 Noon-5pm\n\nwww.littlecitystudios.com\n\n\n\nLocated on Second Floor at Stifel & Capra\n\n260 W. Broad Street\, Falls Church\, VA 22046\n\n703-533-3557\n\nRegular Hours: Mon-Sat 10am-6pm\, Sun Noon-5pm\n\n\n\nJoin the 14 artists of Little City Studios for an Open House\, just in time for last minute Holiday shopping. Artists will be on hand\, giving demonstrations and talking about their work. Featured will be paintings\, jewelry\, fused glassware\, cards\, prints and other artist made unique items. Artists will be offering special items and discounts for the Open House only. Stop by and visit the artists in their Little City Studios. Located at Stifel & Capra\, 2nd Floor\, 260 W. Broad St. Falls Church\, VA 22046. FREE\, Open to the Public. More info at: littlecitystudios.com.
X-ALT-DESC;FMTTYPE=text/html:Sunday\, December 16<br />\nLittle City Studios Holiday Open House<br />\nSunday\, December 16\, 12 Noon-5pm<br />\nwww.littlecitystudios.com<br />\n<br />\nLocated on Second Floor at Stifel &amp\; Capra<br />\n260 W. Broad Street\, Falls Church\, VA 22046<br />\n703-533-3557<br />\nRegular Hours: Mon-Sat 10am-6pm\, Sun Noon-5pm<br />\n<br />\nJoin the 14 artists of Little City Studios for an Open House\, just in time for last minute Holiday shopping. Artists will be on hand\, giving demonstrations and talking about their work. Featured will be paintings\, jewelry\, fused glassware\, cards\, prints and other artist made unique items. Artists will be offering special items and discounts for the Open House only. Stop by and visit the artists in their Little City Studios. Located at Stifel &amp\; Capra\, 2nd Floor\, 260 W. Broad St. Falls Church\, VA 22046. FREE\, Open to the Public. More info at: littlecitystudios.com.<br />\n&nbsp\;
LOCATION:Little City Studios\, 2nd Floor at Stifel & Capra\, 260 W. Broad Street\, Falls Church\, VA 22046
UID:e.1250.388
SEQUENCE:3
DTSTAMP:20260426T012653Z
URL:https://business.fallschurchchamber.org/events/details/little-city-studios-holiday-open-house-10-23-2012-388
END:VEVENT

END:VCALENDAR
