BEGIN:VCALENDAR
VERSION:2.0
PRODID:-//ChamberMaster//Event Calendar 2.0//EN
METHOD:PUBLISH
X-PUBLISHED-TTL:P3D
REFRESH-INTERVAL:P3D
CALSCALE:GREGORIAN
BEGIN:VEVENT
DTSTART:20121028T160000Z
DTEND:20121029T210000Z
X-MICROSOFT-CDO-ALLDAYEVENT:FALSE
SUMMARY:Little City Studios Second Annual Studio Tour and Sale
DESCRIPTION:Artists from Little City Studios will participate in the second annual Arlington Artists Alliance Studio Tour and Sale on the weekend of Saturday\, October 27\, and Sunday\, October 28\, 2012\, from 12 noon-5pm. The public is invited to take this free\, self guided tour to meet artists in their working environments and to view and purchase art during this special event. Through studio visits\, the artists hope to encourage an appreciation and understanding of the creative process by demonstrating various techniques\, explaining how they work\, and inviting audience participation. To join the tour\, visit the Alliance website www.arlingtonartistsalliance.org for a downloadable map and additional details\, or visit Stifel & Capra for a print version of the Studio Tour map.
X-ALT-DESC;FMTTYPE=text/html:Artists from Little City Studios will participate in the second annual Arlington Artists Alliance Studio Tour and Sale on the weekend of Saturday\, October 27\, and Sunday\, October 28\, 2012\, from 12 noon-5pm. The public is invited to take this free\, self guided tour to meet artists in their working environments and to view and purchase art during this special event. Through studio visits\, the artists hope to encourage an appreciation and understanding of the creative process by demonstrating various techniques\, explaining how they work\, and inviting audience participation. To join the tour\, visit the Alliance website www.arlingtonartistsalliance.org for a downloadable map and additional details\, or visit Stifel &amp\; Capra for a print version of the Studio Tour map.
LOCATION:Little City Studios\, 2nd Floor 260 West Broad Street\, Falls Church\, VA 22046
UID:e.1250.347
SEQUENCE:3
DTSTAMP:20260426T031625Z
URL:https://business.fallschurchchamber.org/events/details/little-city-studios-second-annual-studio-tour-and-sale-10-28-2012-347
END:VEVENT

END:VCALENDAR
