BEGIN:VCALENDAR
VERSION:2.0
PRODID:-//ChamberMaster//Event Calendar 2.0//EN
METHOD:PUBLISH
X-PUBLISHED-TTL:P3D
REFRESH-INTERVAL:P3D
CALSCALE:GREGORIAN
BEGIN:VEVENT
DTSTART;VALUE=DATE:20120714
DTEND;VALUE=DATE:20120715
TRANSP:TRANSPARENT
X-MICROSOFT-CDO-ALLDAYEVENT:TRUE
SUMMARY:Mad Fox 2nd Anniversary Party
DESCRIPTION:You're invited to Mad Fox Brewing Company for an all-day anniversary party to celebrate the brewpub's second successful year in business\, and the start of year three. Look for special tappings\, live music\, giveaways\, a pig roast\, giveaways and lots of fun. Stop by to enjoy the celebration. Event kicks off at 11am with an Orange Whip IPA tapping. Visit our website for full event details.
X-ALT-DESC;FMTTYPE=text/html:You&#39\;re invited to Mad Fox Brewing Company for an all-day anniversary party to celebrate the brewpub&#39\;s second successful year in business\, and the start of year three. Look for special tappings\, live music\, giveaways\, a pig roast\, giveaways and lots of fun. Stop by to enjoy the celebration. Event kicks off at 11am with an Orange Whip IPA tapping. Visit our website for full event details.
LOCATION:Mad Fox Brewing Company\, 444 West Broad Street\, Falls Church\, VA 22046
UID:e.1250.298
SEQUENCE:3
DTSTAMP:20260425T221339Z
URL:https://business.fallschurchchamber.org/events/details/mad-fox-2nd-anniversary-party-07-14-2012-298
END:VEVENT

END:VCALENDAR
