BEGIN:VCALENDAR
VERSION:2.0
PRODID:-//ChamberMaster//Event Calendar 2.0//EN
METHOD:PUBLISH
X-PUBLISHED-TTL:P3D
REFRESH-INTERVAL:P3D
CALSCALE:GREGORIAN
BEGIN:VEVENT
DTSTART:20120610T140000Z
DTEND:20120610T190000Z
X-MICROSOFT-CDO-ALLDAYEVENT:FALSE
SUMMARY:Mad Fox Blues Brunch
DESCRIPTION:Blues Brunch\, Tribute and Open Jam featuring the Jambassadors from The Archie Edwards Blues Heritage Foundation\, will be hosting our open Jam. No charge. Brunch - ADDITIONAL.\n	\n		http://madfoxbrewing.com\n	\n		\n			Mad Fox Brewing Company & Restaurant\n\n			444 West Broad Street\, Suite I (eye)\n\n			Falls Church\, VA 22046\n\n			703-942-6840
X-ALT-DESC;FMTTYPE=text/html:<div style="color: gray">\n	<p>\n		Blues Brunch\, Tribute and Open Jam featuring the Jambassadors from The Archie Edwards Blues Heritage Foundation\, will be hosting our open Jam. No charge. Brunch - ADDITIONAL.</p>\n	<p>\n		<a href="http://madfoxbrewing.com/">http://madfoxbrewing.com</a></p>\n	<div class="col of3">\n		<p>\n			<strong>Mad Fox Brewing Company &amp\; Restaurant</strong><br />\n			444 West Broad Street\, Suite I (eye)<br />\n			Falls Church\, VA 22046<br />\n			703-942-6840</p>\n	</div>\n</div>\n
LOCATION:Mad Fox Brewing Company & Restaurant 444 West Broad Street\, Suite I (eye) Falls Church\, VA 22046 703-942-6840
UID:e.1250.272
SEQUENCE:3
DTSTAMP:20260425T183756Z
URL:https://business.fallschurchchamber.org/events/details/mad-fox-blues-brunch-06-10-2012-272
END:VEVENT

END:VCALENDAR
