BEGIN:VCALENDAR
VERSION:2.0
PRODID:-//ChamberMaster//Event Calendar 2.0//EN
METHOD:PUBLISH
X-PUBLISHED-TTL:P3D
REFRESH-INTERVAL:P3D
CALSCALE:GREGORIAN
BEGIN:VEVENT
DTSTART:20111209T000000Z
DTEND:20111209T020000Z
X-MICROSOFT-CDO-ALLDAYEVENT:FALSE
SUMMARY:Meet The Artists Holiday Party
DESCRIPTION:Artists Holiday Party!\n\n\n\nFree Reception - Come Meet the artists at ArtSpace Falls Church\n\n\n\nThere will be live music\, door prizes and holiday cheer.  Bring your friends!
X-ALT-DESC;FMTTYPE=text/html:<span style="font-size: 16px"><span style="font-size: 18px">Artists Holiday Party!</span><br />\n<br />\nFree Reception - Come Meet the artists at ArtSpace Falls Church<br />\n<br />\nThere will be live music\, door prizes and holiday cheer.&nbsp\; Bring your friends!</span>
LOCATION:ArtSpace Falls Church 410 S. Maple Ave. Falls Church\, VA 22046
UID:e.1250.182
SEQUENCE:3
DTSTAMP:20260423T083906Z
URL:https://business.fallschurchchamber.org/events/details/meet-the-artists-holiday-party-12-08-2011-182
END:VEVENT

END:VCALENDAR
