BEGIN:VCALENDAR
VERSION:2.0
PRODID:-//ChamberMaster//Event Calendar 2.0//EN
METHOD:PUBLISH
X-PUBLISHED-TTL:P3D
REFRESH-INTERVAL:P3D
CALSCALE:GREGORIAN
BEGIN:VEVENT
DTSTART:20121013T140000Z
DTEND:20121013T200000Z
X-MICROSOFT-CDO-ALLDAYEVENT:FALSE
SUMMARY:Meet & Train with Olympic Gold Medalist Ashton Eaton
DESCRIPTION:MEET and GREET\n\n	10:00 am to 11:00 am\n\n	- Meet Ashton and see his gold medal\n\n	- First 124 guest receive and autograph photo\n\n	- Enjoy complimentary samples of POWERADE  beverages\n\n	\n\n	WORKOUT WITH ASHTON\n\n	11:00 am-12 noon\n\n	- Open to the first 150 people to receive wrist band\n\n	- Workout with Ashton in a group class performing his signature workout drills adapted for all fitness levels.\n\n	\n\n	SPACE IS LIMITED\, SO ARRIVE EARLY\n\n	- Open to public\, members and their guests ages 18 and older\n\n	- Club non-members must sign waiver to participate in class\n\n	- No purchase necessary
X-ALT-DESC;FMTTYPE=text/html:<div style="color: gray">\n	<span itemprop="description">MEET and GREET<br />\n	10:00 am to 11:00 am<br />\n	- Meet Ashton and see his gold medal<br />\n	- First 124 guest receive and autograph photo<br />\n	- Enjoy complimentary samples of POWERADE&reg\; beverages<br />\n	<br />\n	WORKOUT WITH ASHTON<br />\n	11:00 am-12 noon<br />\n	- Open to the first 150 people to receive wrist band<br />\n	- Workout with Ashton in a group class performing his signature workout drills adapted for all fitness levels.<br />\n	<br />\n	SPACE IS LIMITED\, SO ARRIVE EARLY<br />\n	- Open to public\, members and their guests ages 18 and older<br />\n	- Club non-members must sign waiver to participate in class<br />\n	- No purchase necessary<br />\n	<span _fck_bookmark="1" style="display: none">&nbsp\;</span></span></div>\n
LOCATION:24 Hour Fitness 1000 E. Broad St. Falls Church\, VA 22046
UID:e.1250.368
SEQUENCE:3
DTSTAMP:20260426T012655Z
URL:https://business.fallschurchchamber.org/events/details/meet-train-with-olympic-gold-medalist-ashton-eaton-10-13-2012-368
END:VEVENT

END:VCALENDAR
