BEGIN:VCALENDAR
VERSION:2.0
PRODID:-//ChamberMaster//Event Calendar 2.0//EN
METHOD:PUBLISH
X-PUBLISHED-TTL:P3D
REFRESH-INTERVAL:P3D
CALSCALE:GREGORIAN
BEGIN:VEVENT
DTSTART:20120510T220000Z
DTEND:20120511T003000Z
X-MICROSOFT-CDO-ALLDAYEVENT:FALSE
SUMMARY:Mega Networking Mixer
DESCRIPTION:3 EVENTS ALL ON MAY 10th\n\n	\n\n	Contact Ed Hogg via 703 862 8168 or ehogg9@gmail.com for your\n\n	eventbrite invitiation\n\n	\n\n	\n\n	2 Luncheons -Evolv Business Opportunity Luncheon with Rick Teague!\n\n	Join Rick Teague\, Leader in Evolv from Franklin\, TN\n\n	Learn about EVOLV and the reasons why is it a great choice right now.\n\n	WHEN: Thursday\, May 10th\n\n	TIME: Lunch #1: 11:30-123:30\n\n	TIME: Lunch #2: 12:30-1:30\n\n	(for Promoters only: 1:30 Compensation Plan explained in detail by Leader Rick Teague)\n\n	VELOCITY 5 RESTAURANT in MERRIFIELD VA\n\n	LOCATION: 8111 Lee Highway\n\n	Falls Church\, VA\, 22042\n\n	  HOSTED BY:\n\n	Ed Hogg  (703- 862-8168) & Julia Blair Smith (571-282-4966)\n\n	 \n\n	MEGA NETWORKING EVENT & MIXER\n\n	@ VELOCITY 5 RESTAURANT in MERRIFIELD VA\n\n	JOIN US FOR THE MEGA NETWORKING EVENT OF MAY\n\n	FOOD\, GIVEAWAYS\, CASH BAR\n\n	& PLENTY OF ATMOSPHERE\n\n	WHEN: Thursday\, May 10th\n\n	TIME: 6 to 8:30 pm\n\n	LOCATION: 8111 Lee Highway\n\n	Falls Church\, VA\, 22042\n\n	  HOSTED BY:\n\n	Ed Hogg & Julia Blair Smith\n\n	SPACE IS LIMITED SO RESERVE EARLY
X-ALT-DESC;FMTTYPE=text/html:<p>\n	3 EVENTS ALL ON MAY 10th<br />\n	<br />\n	Contact Ed Hogg via 703 862 8168 or <a href="mailto:ehogg9@gmail.com">ehogg9@gmail.com</a> for your<br />\n	eventbrite invitiation<br />\n	<br />\n	<br />\n	2 Luncheons -Evolv Business Opportunity Luncheon with Rick Teague!<br />\n	Join Rick Teague\, Leader in Evolv from Franklin\, TN<br />\n	Learn about EVOLV and the reasons why is it a great choice right now.</p>\n<p>\n	WHEN: Thursday\, May 10th<br />\n	TIME: Lunch #1: 11:30-123:30<br />\n	TIME: Lunch #2: 12:30-1:30<br />\n	(for Promoters only: 1:30 Compensation Plan explained in detail by Leader Rick Teague)</p>\n<p>\n	VELOCITY 5 RESTAURANT in MERRIFIELD VA<br />\n	LOCATION: 8111 Lee Highway<br />\n	Falls Church\, VA\, 22042</p>\n<p>\n	&nbsp\; HOSTED BY:<br />\n	Ed Hogg&nbsp\; (703- 862-8168) &amp\; Julia Blair Smith (571-282-4966)</p>\n<p>\n	&nbsp\;</p>\n<p>\n	MEGA NETWORKING EVENT &amp\; MIXER<br />\n	@ VELOCITY 5 RESTAURANT in MERRIFIELD VA</p>\n<p>\n	JOIN US FOR THE MEGA NETWORKING EVENT OF MAY</p>\n<p>\n	FOOD\, GIVEAWAYS\, CASH BAR<br />\n	&amp\; PLENTY OF ATMOSPHERE</p>\n<p>\n	WHEN: Thursday\, May 10th<br />\n	TIME: 6 to 8:30 pm</p>\n<p>\n	LOCATION: 8111 Lee Highway<br />\n	Falls Church\, VA\, 22042</p>\n<p>\n	&nbsp\; HOSTED BY:<br />\n	Ed Hogg &amp\; Julia Blair Smith</p>\n<p>\n	SPACE IS LIMITED SO RESERVE EARLY<br />\n	<br />\n	<br />\n	&nbsp\;</p>\n
LOCATION:Velocity 5 Restaurant 8111 Lee Hwy Falls Church VA 22042
UID:e.1250.260
SEQUENCE:3
DTSTAMP:20260425T165023Z
URL:https://business.fallschurchchamber.org/events/details/mega-networking-mixer-05-10-2012-260
END:VEVENT

END:VCALENDAR
