BEGIN:VCALENDAR
VERSION:2.0
PRODID:-//ChamberMaster//Event Calendar 2.0//EN
METHOD:PUBLISH
X-PUBLISHED-TTL:P3D
REFRESH-INTERVAL:P3D
CALSCALE:GREGORIAN
BEGIN:VEVENT
DTSTART:20111110T180000Z
DTEND:20111110T200000Z
X-MICROSOFT-CDO-ALLDAYEVENT:FALSE
SUMMARY:Mentoring Summit
DESCRIPTION:Mentoring Summit - Kieran Sharpe\, a member of the FC City School Board and co-founder of Homestretch\, is supporting a mentoring summit by the Fairfax Partnership for Youth on Thurs\, Nov. 10 at the James Lee Community Center. The event will feature a presentation by Cong. Gerry Connolly. Business leaders interested in mentoring are encouraged to attend. For more information\, visit www.fairfaxyouth.org.
X-ALT-DESC;FMTTYPE=text/html:<p style="margin-top: 0px\; margin-bottom: 0px\; color: #245c7b\; font-size: 12pt">\n	<strong>Mentoring Summit</strong> - <strong>Kieran Sharpe</strong>\, a member of the FC City School Board and co-founder of <strong>Homestretch</strong>\, is supporting a mentoring summit by the Fairfax Partnership for Youth on Thurs\, Nov. 10 at the James Lee Community Center. The event will feature a presentation by Cong. Gerry Connolly. Business leaders interested in mentoring are encouraged to attend. For more information\,&nbsp\;visit <a href="http://r20.rs6.net/tn.jsp?llr=mkmuencab&amp\;et=1108369612487&amp\;s=215&amp\;e=001n0EhihRW-6c-8p8agY3GmX3lPxKxfquzHVqcc6qPJm17qD2ITjeFPgn8X_xwAOZ1BKLZCiKi9wCYXIwWfj81fnGTaS9P3qCT_ZsEzSfMOcwjddk7Agz3DQ==" shape="rect" style="color: #245c7b" target="_blank" title="http://r20.rs6.net/tn.jsp?llr=mkmuencab&amp\;et=1108369612487&amp\;s=215&amp\;e=001n0EhihRW-6c-8p8agY3GmX3lPxKxfquzHVqcc6qPJm17qD2ITjeFPgn8X_xwAOZ1BKLZCiKi9wCYXIwWfj81fnGTaS9P3qCT_ZsEzSfMOcwjddk7Agz3DQ==">www.fairfaxyouth.org</a><span style="color: #245c7b">.<span _fck_bookmark="1" style="display: none">&nbsp\;</span></span></p>\n
LOCATION:James Lee Community Center 2855-A Annandale Road Falls Church\, VA 22042
UID:e.1250.168
SEQUENCE:3
DTSTAMP:20260423T070722Z
URL:https://business.fallschurchchamber.org/events/details/mentoring-summit-11-10-2011-168
END:VEVENT

END:VCALENDAR
