BEGIN:VCALENDAR
VERSION:2.0
PRODID:-//ChamberMaster//Event Calendar 2.0//EN
METHOD:PUBLISH
X-PUBLISHED-TTL:P3D
REFRESH-INTERVAL:P3D
CALSCALE:GREGORIAN
BEGIN:VEVENT
DTSTART:20111015T150000Z
DTEND:20111015T200000Z
X-MICROSOFT-CDO-ALLDAYEVENT:FALSE
SUMMARY:Merrifield Fall Festival
DESCRIPTION:The Greater Merrifield Business Association presents its 7th Annual Fall Festival\n\n	\n\n	FEATURING:\n\n	Fun Family Activities\n\n	Fire Truck Train Ride\n\n	Unique Local Vendors\n\n	"Ace of Face" Face Painting\n\n	Noon   4:00 pm\n\n	The Ronald McDonald Show\n\n	3:00 pm\n\n	ENTERTAINMENT BY:\n\n	The Crawstickers\n\n	11:00 am   1:00 pm\n\n	Jubilee Balloon Artist\n\n	11:30 am   2:30 pm\n\n	Cardinal Cloggers\n\n	1:00   1:30 pm\n\n	The Splinters Band\n\n	1:30   3:00 pm
X-ALT-DESC;FMTTYPE=text/html:<p align="left">\n	<span style="font-size: 14px"><span style="font-size: 16px"><span style="color: #ff8c00"><font face="Bluejack-Mdm"><font face="Bluejack-Mdm"><font face="Bluejack-Mdm">The Greater Merrifield Business Association presents its 7th Annual Fall Festival</font></font></font></span></span><br />\n	<br />\n	<font color="#66e6f3" face="Bluejack-Mdm"><font color="#66e6f3" face="Bluejack-Mdm"><font color="#66e6f3" face="Bluejack-Mdm">FEATURING:</font></font></font></span></p>\n<p align="left">\n	<span style="font-size: 14px"><font face="Bluejack-Mdm"><font face="Bluejack-Mdm">Fun Family Activities</font></font></span></p>\n<p align="left">\n	<span style="font-size: 14px"><font face="Bluejack-Mdm"><font face="Bluejack-Mdm">Fire Truck Train Ride</font></font></span></p>\n<p align="left">\n	<span style="font-size: 14px"><font face="Bluejack-Mdm"><font face="Bluejack-Mdm">Unique Local Vendors</font></font></span></p>\n<p align="left">\n	<span style="font-size: 14px"><font face="Bluejack-Mdm"><font face="Bluejack-Mdm">&ldquo\;Ace of Face&rdquo\; Face Painting</font></font></span></p>\n<p align="left">\n	<span style="font-size: 14px"><font face="Bluejack-LgtItl"><font face="Bluejack-LgtItl">Noon &ndash\; 4:00 pm</font></font></span></p>\n<p align="left">\n	<span style="font-size: 14px"><font face="Bluejack-Mdm"><font face="Bluejack-Mdm">The Ronald McDonald Show</font></font></span></p>\n<p align="left">\n	<span style="font-size: 14px"><font face="Bluejack-LgtItl"><font face="Bluejack-LgtItl">3:00 pm</font></font></span></p>\n<p align="left">\n	<span style="font-size: 14px"><font color="#66e6f3" face="Bluejack-Mdm"><font color="#66e6f3" face="Bluejack-Mdm"><font color="#66e6f3" face="Bluejack-Mdm">ENTERTAINMENT BY:</font></font></font></span></p>\n<p align="left">\n	<span style="font-size: 14px"><font face="Bluejack-Mdm"><font face="Bluejack-Mdm">The Crawstickers</font></font></span></p>\n<p align="left">\n	<span style="font-size: 14px"><font face="Bluejack-LgtItl"><font face="Bluejack-LgtItl">11:00 am &ndash\; 1:00 pm</font></font></span></p>\n<p align="left">\n	<span style="font-size: 14px"><font face="Bluejack-Mdm"><font face="Bluejack-Mdm">Jubilee Balloon Artist</font></font></span></p>\n<p align="left">\n	<span style="font-size: 14px"><font face="Bluejack-LgtItl"><font face="Bluejack-LgtItl">11:30 am &ndash\; 2:30 pm</font></font></span></p>\n<p align="left">\n	<span style="font-size: 14px"><font face="Bluejack-Mdm"><font face="Bluejack-Mdm">Cardinal Cloggers</font></font></span></p>\n<p align="left">\n	<span style="font-size: 14px"><font face="Bluejack-LgtItl"><font face="Bluejack-LgtItl">1:00 &ndash\; 1:30 pm</font></font></span></p>\n<p align="left">\n	<span style="font-size: 14px"><font face="Bluejack-Mdm"><font face="Bluejack-Mdm">The Splinters Band</font></font></span></p>\n<p>\n	<span style="font-size: 14px"><font face="Bluejack-LgtItl"><font face="Bluejack-LgtItl">1:30 &ndash\; 3:00 pm</font></font></span><font face="Bluejack-LgtItl" size="2"><font face="Bluejack-LgtItl" size="2"><span _fck_bookmark="1" style="display: none">&nbsp\;</span></font></font></p>\n
LOCATION:Luther Jackson Middle School 3020 Gallows Road\, Falls Church
UID:e.1250.11
SEQUENCE:3
DTSTAMP:20260423T055506Z
URL:https://business.fallschurchchamber.org/events/details/merrifield-fall-festival-10-15-2011-11
END:VEVENT

END:VCALENDAR
