BEGIN:VCALENDAR
VERSION:2.0
PRODID:-//ChamberMaster//Event Calendar 2.0//EN
METHOD:PUBLISH
X-PUBLISHED-TTL:P3D
REFRESH-INTERVAL:P3D
CALSCALE:GREGORIAN
BEGIN:VEVENT
DTSTART:20121020T150000Z
DTEND:20121020T200000Z
X-MICROSOFT-CDO-ALLDAYEVENT:FALSE
SUMMARY:Merrifield Fall Festival
DESCRIPTION:Greater Merrifield Business Association presents its\n\n8th Annual Merrifield Fall Festival\n\n\n\nFeaturing:\n\nFun Family Activities\n\nTrain Rides\n\nUnique Local Vendors\n\nFace Painting\n\nBalloon Artist\n\nRonald McDonald\n\nFun Bus\n\n\n\nEntertainment by:\n\nCardinal Cloggers\n\nPerformances by Local Bands\n\nCar Show
X-ALT-DESC;FMTTYPE=text/html:Greater Merrifield Business Association presents its<br />\n8th Annual Merrifield Fall Festival<br />\n<br />\nFeaturing:<br />\nFun Family Activities<br />\nTrain Rides<br />\nUnique Local Vendors<br />\nFace Painting<br />\nBalloon Artist<br />\nRonald McDonald<br />\nFun Bus<br />\n<br />\nEntertainment by:<br />\nCardinal Cloggers<br />\nPerformances by Local Bands<br />\nCar Show
LOCATION:Luther Jackson Middle School 3020 Gallows Road Falls Church\, VA
UID:e.1250.366
SEQUENCE:3
DTSTAMP:20260426T012335Z
URL:https://business.fallschurchchamber.org/events/details/merrifield-fall-festival-10-20-2012-366
END:VEVENT

END:VCALENDAR
