BEGIN:VCALENDAR
VERSION:2.0
PRODID:-//ChamberMaster//Event Calendar 2.0//EN
METHOD:PUBLISH
X-PUBLISHED-TTL:P3D
REFRESH-INTERVAL:P3D
CALSCALE:GREGORIAN
BEGIN:VEVENT
DTSTART:20111119T003000Z
DTEND:20111119T023000Z
X-MICROSOFT-CDO-ALLDAYEVENT:FALSE
SUMMARY:Messages from Beyond
DESCRIPTION:"Messages from Beyond"\n\n	WITH SHARON KLINGLER\n\n	FRIDAY\, NOVEMBER 18\, 2011 7:30   9:30 pm\n\n	  $30 CSE members /$35 non-members \n\n	 \n\n	  Make the spirit connection!\n\n	Let your guides and loved ones in spirit bring you their\n\n	insights through Sharon's dynamic clairvoyance and guided\n\n	imagery processes. You will be amazed at how profoundly\n\n	you can feel the presence of spirit as Sharon shares their\n\n	messages for many audience members and teaches you\n\n	how to connect with your spirit guides for yourself !
X-ALT-DESC;FMTTYPE=text/html:<p align="left">\n	<span style="font-size: 14px"><font color="#000080" face="TTFF59B218t00"><font color="#000080" face="TTFF59B218t00"><font color="#000080" face="TTFF59B218t00">&ldquo\;Messages from Beyond&rdquo\;</font></font></font></span></p>\n<p align="left">\n	<span style="font-size: 14px"><font color="#800080" face="TTFF59B218t00"><font color="#800080" face="TTFF59B218t00"><font color="#800080" face="TTFF59B218t00">WITH SHARON KLINGLER</font></font></font></span></p>\n<p align="left">\n	<span style="font-size: 14px"><font color="#000080" face="TTFF59B218t00"><font color="#000080" face="TTFF59B218t00"><font color="#000080" face="TTFF59B218t00">FRIDAY\, NOVEMBER 18\, 2011 7:30 &ndash\; 9:30 pm</font></font></font></span></p>\n<p>\n	<font face="TTFF59B218t00"><span _fck_bookmark="1" style="display: none">&nbsp\;</span><span _fck_bookmark="1" style="display: none">&nbsp\;</span>$30 CSE members /$35 non-members<span _fck_bookmark="1" style="display: none">&nbsp\;</span></font><br />\n	&nbsp\;</p>\n<p align="left">\n	<span style="font-size: 12px"><font face="TTFF59B218t00"><font color="#800080" face="TTFF51CBF8t00"><font color="#800080" face="TTFF51CBF8t00"><font color="#800080" face="TTFF51CBF8t00"><span _fck_bookmark="1" style="display: none">&nbsp\;</span><span _fck_bookmark="1" style="display: none">&nbsp\;</span>Make the spirit connection!</font></font></font></font></span></p>\n<p align="left">\n	<span style="font-size: 12px"><font face="TTFF59B218t00"><font face="TTFF57B5C0t00"><font face="TTFF57B5C0t00">Let your guides and loved ones in spirit bring you their</font></font></font></span></p>\n<p align="left">\n	<span style="font-size: 12px"><font face="TTFF59B218t00"><font face="TTFF57B5C0t00"><font face="TTFF57B5C0t00">insights through Sharon&rsquo\;s dynamic clairvoyance and guided</font></font></font></span></p>\n<p align="left">\n	<span style="font-size: 12px"><font face="TTFF59B218t00"><font face="TTFF57B5C0t00"><font face="TTFF57B5C0t00">imagery processes. You will be amazed at how profoundly</font></font></font></span></p>\n<p align="left">\n	<span style="font-size: 12px"><font face="TTFF59B218t00"><font face="TTFF57B5C0t00"><font face="TTFF57B5C0t00">you can feel the presence of spirit as Sharon shares their</font></font></font></span></p>\n<p align="left">\n	<span style="font-size: 12px"><font face="TTFF59B218t00"><font face="TTFF57B5C0t00"><font face="TTFF57B5C0t00">messages for many audience members and teaches you</font></font></font></span></p>\n<p>\n	<span style="font-size: 12px"><font face="TTFF59B218t00"><font face="TTFF57B5C0t00"><font face="TTFF57B5C0t00">how to connect with your spirit guides for yourself !</font></font></font></span><font face="TTFF59B218t00"><font face="TTFF57B5C0t00" size="4"><font face="TTFF57B5C0t00" size="4"><span _fck_bookmark="1" style="display: none">&nbsp\;</span></font></font></font></p>\n<p>\n	<br />\n	<font face="TTFF59B218t00"><span _fck_bookmark="1" style="display: none">&nbsp\;</span><span _fck_bookmark="1" style="display: none">&nbsp\;</span><span _fck_bookmark="1" style="display: none">&nbsp\;</span></font><span _fck_bookmark="1" style="display: none">&nbsp\;</span></p>\n
LOCATION:The Center for Spiritual Enlightenment 222 N. Washington St. Falls Church
UID:e.1250.174
SEQUENCE:3
DTSTAMP:20260423T070708Z
URL:https://business.fallschurchchamber.org/events/details/messages-from-beyond-11-18-2011-174
END:VEVENT

END:VCALENDAR
