BEGIN:VCALENDAR
VERSION:2.0
PRODID:-//ChamberMaster//Event Calendar 2.0//EN
METHOD:PUBLISH
X-PUBLISHED-TTL:P3D
REFRESH-INTERVAL:P3D
CALSCALE:GREGORIAN
BEGIN:VEVENT
DTSTART:20121006T180000Z
DTEND:20121006T180000Z
X-MICROSOFT-CDO-ALLDAYEVENT:FALSE
SUMMARY:Moon Festival at Eden Center
DESCRIPTION:It's time for the annual Moon Festival at Eden Center.  Lots of games for the children\, plus fortune tellers\, magicians\, and face painters.  The Miss Vietnam DC Scholarship Pageant begins at 6pm and the lantern parade will conclude the event at 8pm.  Free!
X-ALT-DESC;FMTTYPE=text/html:It&#39\;s time for the annual Moon Festival at Eden Center.&nbsp\; Lots of games for the children\, plus fortune tellers\, magicians\, and face painters.&nbsp\; The Miss Vietnam DC Scholarship Pageant begins at 6pm and the lantern parade will conclude the event at 8pm.&nbsp\; Free!
LOCATION:Eden Center 6763 Wilson Blvd.\, Falls Church\, VA 22044
UID:e.1250.344
SEQUENCE:3
DTSTAMP:20260426T012710Z
URL:https://business.fallschurchchamber.org/events/details/moon-festival-at-eden-center-10-06-2012-344
END:VEVENT

END:VCALENDAR
