BEGIN:VCALENDAR
VERSION:2.0
PRODID:-//ChamberMaster//Event Calendar 2.0//EN
METHOD:PUBLISH
X-PUBLISHED-TTL:P3D
REFRESH-INTERVAL:P3D
CALSCALE:GREGORIAN
BEGIN:VEVENT
DTSTART;VALUE=DATE:20120901
DTEND;VALUE=DATE:20121001
TRANSP:TRANSPARENT
X-MICROSOFT-CDO-ALLDAYEVENT:TRUE
SUMMARY:National Yoga Month
DESCRIPTION:Sacred Well Yoga celebrates National Yoga Month with a free week of classes for new students. Print coupon at www.yogamonth.org.
X-ALT-DESC;FMTTYPE=text/html:<p>\n	Sacred Well Yoga celebrates National Yoga Month with a free week of classes for new students. Print coupon at <a href="http://www.yogamonth.org">www.yogamonth.org</a>.</p>\n
LOCATION:450 West Broad St. Stes. 319-320 Falls Church VA 22046
UID:e.1250.329
SEQUENCE:3
DTSTAMP:20260425T234827Z
URL:https://business.fallschurchchamber.org/events/details/national-yoga-month-09-01-2012-329
END:VEVENT

END:VCALENDAR
