BEGIN:VCALENDAR
VERSION:2.0
PRODID:-//ChamberMaster//Event Calendar 2.0//EN
METHOD:PUBLISH
X-PUBLISHED-TTL:P3D
REFRESH-INTERVAL:P3D
CALSCALE:GREGORIAN
BEGIN:VEVENT
DTSTART:20260423T210000Z
DTEND:20260424T000000Z
X-MICROSOFT-CDO-ALLDAYEVENT:FALSE
SUMMARY:Nepenthe Brewing Tap Takeover at the Casual Pint
DESCRIPTION:Nepenthe Brewing Co. will be taking over multiple taps at the Casual Pint on Thursday\, April 23 from 5-8pm.  Come try a flight of their finest and learn more about the brewery voted as Baltimore's best!
X-ALT-DESC;FMTTYPE=text/html:Nepenthe Brewing Co. will be taking over multiple taps at the Casual Pint on Thursday\, April 23 from 5-8pm.&nbsp\; Come try a flight of their finest and learn more about the brewery voted as Baltimore&#39\;s best!
LOCATION:The Casual Pint of Falls Church 6410 Arlington Blvd.
UID:e.1250.84886
SEQUENCE:3
DTSTAMP:20260420T182104Z
URL:https://business.fallschurchchamber.org/events/details/nepenthe-brewing-tap-takeover-at-the-casual-pint-84886
END:VEVENT

END:VCALENDAR
