BEGIN:VCALENDAR
VERSION:2.0
PRODID:-//ChamberMaster//Event Calendar 2.0//EN
METHOD:PUBLISH
X-PUBLISHED-TTL:P3D
REFRESH-INTERVAL:P3D
CALSCALE:GREGORIAN
BEGIN:VEVENT
DTSTART:20120120T170000Z
DTEND:20120122T170000Z
X-MICROSOFT-CDO-ALLDAYEVENT:FALSE
SUMMARY:Next Fruit sale in December
DESCRIPTION:Premium Citrus Fruit Sale to raise funds for charities.  Fresh Navel Oranges\, Honeybell Oranges and Pink Seedless Grapefruit.  See www.fallschurchLions.org for details.
X-ALT-DESC;FMTTYPE=text/html:Premium Citrus Fruit Sale to raise funds for charities.&nbsp\; Fresh Navel Oranges\, Honeybell Oranges and Pink Seedless Grapefruit.&nbsp\; See <a href="http://www.fallschurchLions.org">www.fallschurchLions.org</a> for details.
LOCATION:City of Falls Church Property Yard behind Don Beyer Volvo
UID:e.1250.185
SEQUENCE:3
DTSTAMP:20260423T102055Z
URL:https://business.fallschurchchamber.org/events/details/next-fruit-sale-in-december-01-20-2012-185
END:VEVENT

END:VCALENDAR
