BEGIN:VCALENDAR
VERSION:2.0
PRODID:-//ChamberMaster//Event Calendar 2.0//EN
METHOD:PUBLISH
X-PUBLISHED-TTL:P3D
REFRESH-INTERVAL:P3D
CALSCALE:GREGORIAN
BEGIN:VEVENT
DTSTART:20120927T220000Z
DTEND:20120928T000000Z
X-MICROSOFT-CDO-ALLDAYEVENT:FALSE
SUMMARY:NOVAM's 25th Anniversary Celebration Reception
DESCRIPTION:Northern Virginia AIDS Ministry (NOVAM) is celebrating our 25th anniversary with a celebratory reception where we honor and recognize our community partners and supporters that have sustained our organizations and successful programs helping the community. \n\n	\n\n	If you would like to be listed as a sponsor for our 25th Anniversary Celebration\, please consider making a tax-deductible donation and your name will be included as a supporter at the event. Your continued support is appreciated. Please contact Mary Karstens (703-533-5505\, x13 or mkarstens@novam.org) for more information.\n\n	\n\n	RSVP by Sept 21 at novam.org
X-ALT-DESC;FMTTYPE=text/html:<p class="MsoNormal">\n	<strong><span style="font-size: 10pt">Northern Virginia AIDS Ministry (NOVAM) is celebrating our 25th anniversary with a celebratory reception where we honor and recognize our community partners and supporters that have sustained our organizations and successful programs helping the community. </span></strong><br />\n	<br />\n	<span style="font-size: 10pt"><b>If you would like to be listed as a sponsor for our 25th Anniversary Celebration\, please consider making a tax-deductible donation and your name will be included as a supporter at the event. Your continued support is appreciated.</b><b style="mso-bidi-font-weight: normal"> Please contact Mary Karstens (703-533-5505\, x13 or mkarstens@novam.org) for more information.<br />\n	<br />\n	RSVP by Sept 21 at novam.org</b></span></p>\n
LOCATION:Immanuel Church-on-the-Hill 3606 Seminary Road Alexandria\, VA 22304
UID:e.1250.325
SEQUENCE:3
DTSTAMP:20260425T234658Z
URL:https://business.fallschurchchamber.org/events/details/novam-s-25th-anniversary-celebration-reception-09-27-2012-325
END:VEVENT

END:VCALENDAR
