BEGIN:VCALENDAR
VERSION:2.0
PRODID:-//ChamberMaster//Event Calendar 2.0//EN
METHOD:PUBLISH
X-PUBLISHED-TTL:P3D
REFRESH-INTERVAL:P3D
CALSCALE:GREGORIAN
BEGIN:VEVENT
DTSTART:20121117T170000Z
DTEND:20121117T210000Z
X-MICROSOFT-CDO-ALLDAYEVENT:FALSE
SUMMARY:Of All The Beads - Fifth Anniversary Trunk Show and Sale
DESCRIPTION:Come and celebrate my fifth anniversary of creating jewelry and repairing treasures\, and enjoy a 20% discount on the entire inventory! Wine and nibbles will enhance your browsing pleasure.
X-ALT-DESC;FMTTYPE=text/html:Come and celebrate my fifth anniversary of creating jewelry and repairing treasures\, and enjoy a 20% discount on the entire inventory! Wine and nibbles will enhance your browsing pleasure.
LOCATION:502 Great Falls Street
UID:e.1250.391
SEQUENCE:3
DTSTAMP:20260426T032114Z
URL:https://business.fallschurchchamber.org/events/details/of-all-the-beads-fifth-anniversary-trunk-show-and-sale-11-17-2012-391
END:VEVENT

END:VCALENDAR
