BEGIN:VCALENDAR
VERSION:2.0
PRODID:-//ChamberMaster//Event Calendar 2.0//EN
METHOD:PUBLISH
X-PUBLISHED-TTL:P3D
REFRESH-INTERVAL:P3D
CALSCALE:GREGORIAN
BEGIN:VEVENT
DTSTART:20120923T150000Z
DTEND:20120923T220000Z
X-MICROSOFT-CDO-ALLDAYEVENT:FALSE
SUMMARY:Oktoberfest at Mad Fox Brewing Company
DESCRIPTION:Hoppy Oktoberfest!\n\n	 \n\n	Celebrate Oktoberfest Mad Fox style with an all day party in our Biergarten where we extend our patio into the street and onto Market Square with tables/chairs and high top bar tables.  \n\n	 \n\n	Beer Menu\n\n	 \n\n	Mad Fox Beers\n\n	Hitzi Frau Oktoberfest Lagerbier\n\n	Orange Whip IPA\n\n	Molotov Hoptail\n\n	Dingo IPA\n\n	 \n\n	Regional IPAs \n\n	AleWerks Drake Tail IPA and Caledonia\n\n	DC Brau Deus Ex Machine and Corruption Ale\n\n	Evolution Lot No. 3 IPA and Lot No. 6 DIPA\n\n	Lost Rhino Face Plant IPA\n\n	Port City Monument IPA\n\n	 \n\n	All beers available in 8 and 16-ounce servings\, while supplies last\n\n	 \n\n	Food Menu\n\n	Ale Braised German Sausages on French rolls with Ale Mustard and Sauerkraut\n\n	Pretzel Twists\n\n	Chesapeake Potato Chips  \n\n	Mad Fox House-Brewed Root Beer\n\n	Bottled Water\n\n	 \n\n	Live Music\n\n	John Taglieri (1pm to 5pm)
X-ALT-DESC;FMTTYPE=text/html:<style type="text/css">\n<!--{cke_protected}{C}%3C!%2D%2D%0D%0A%20%2F*%20Font%20Definitions%20*%2F%0D%0A%40font-face%0D%0A%09%7Bfont-family%3A%22Cambria%20Math%22%3B%0D%0A%09panose-1%3A2%204%205%203%205%204%206%203%202%204%3B%0D%0A%09mso-font-charset%3A0%3B%0D%0A%09mso-generic-font-family%3Aauto%3B%0D%0A%09mso-font-pitch%3Avariable%3B%0D%0A%09mso-font-signature%3A-536870145%201107305727%200%200%20415%200%3B%7D%0D%0A%40font-face%0D%0A%09%7Bfont-family%3ACalibri%3B%0D%0A%09panose-1%3A2%2015%205%202%202%202%204%203%202%204%3B%0D%0A%09mso-font-charset%3A0%3B%0D%0A%09mso-generic-font-family%3Aauto%3B%0D%0A%09mso-font-pitch%3Avariable%3B%0D%0A%09mso-font-signature%3A-520092929%201073786111%209%200%20415%200%3B%7D%0D%0A%40font-face%0D%0A%09%7Bfont-family%3ACambria%3B%0D%0A%09panose-1%3A2%204%205%203%205%204%206%203%202%204%3B%0D%0A%09mso-font-charset%3A0%3B%0D%0A%09mso-generic-font-family%3Aauto%3B%0D%0A%09mso-font-pitch%3Avariable%3B%0D%0A%09mso-font-signature%3A-536870145%201073743103%200%200%20415%200%3B%7D%0D%0A%20%2F*%20Style%20Definitions%20*%2F%0D%0Ap.MsoNormal%2C%20li.MsoNormal%2C%20div.MsoNormal%0D%0A%09%7Bmso-style-unhide%3Ano%3B%0D%0A%09mso-style-qformat%3Ayes%3B%0D%0A%09mso-style-parent%3A%22%22%3B%0D%0A%09margin%3A0in%3B%0D%0A%09margin-bottom%3A.0001pt%3B%0D%0A%09mso-pagination%3Awidow-orphan%3B%0D%0A%09font-size%3A11.0pt%3B%0D%0A%09mso-bidi-font-size%3A12.0pt%3B%0D%0A%09font-family%3ACalibri%3B%0D%0A%09mso-fareast-font-family%3ACalibri%3B%0D%0A%09mso-bidi-font-family%3A%22Times%20New%20Roman%22%3B%7D%0D%0Aa%3Alink%2C%20span.MsoHyperlink%0D%0A%09%7Bmso-style-noshow%3Ayes%3B%0D%0A%09mso-style-priority%3A99%3B%0D%0A%09mso-style-unhide%3Ano%3B%0D%0A%09color%3Ablack%3B%0D%0A%09text-decoration%3Aunderline%3B%0D%0A%09text-underline%3Asingle%3B%7D%0D%0Aa%3Avisited%2C%20span.MsoHyperlinkFollowed%0D%0A%09%7Bmso-style-noshow%3Ayes%3B%0D%0A%09mso-style-priority%3A99%3B%0D%0A%09color%3Apurple%3B%0D%0A%09mso-themecolor%3Afollowedhyperlink%3B%0D%0A%09text-decoration%3Aunderline%3B%0D%0A%09text-underline%3Asingle%3B%7D%0D%0A.MsoChpDefault%0D%0A%09%7Bmso-style-type%3Aexport-only%3B%0D%0A%09mso-default-props%3Ayes%3B%0D%0A%09font-family%3ACambria%3B%0D%0A%09mso-ascii-font-family%3ACambria%3B%0D%0A%09mso-ascii-theme-font%3Aminor-latin%3B%0D%0A%09mso-fareast-font-family%3A%22%26%2365325%3B%26%2365331%3B%20%26%2326126%3B%26%2326397%3B%22%3B%0D%0A%09mso-fareast-theme-font%3Aminor-fareast%3B%0D%0A%09mso-hansi-font-family%3ACambria%3B%0D%0A%09mso-hansi-theme-font%3Aminor-latin%3B%0D%0A%09mso-bidi-font-family%3A%22Times%20New%20Roman%22%3B%0D%0A%09mso-bidi-theme-font%3Aminor-bidi%3B%7D%0D%0A%40page%20WordSection1%0D%0A%09%7Bsize%3A8.5in%2011.0in%3B%0D%0A%09margin%3A1.0in%20.8in%20.3in%20.8in%3B%0D%0A%09mso-header-margin%3A.5in%3B%0D%0A%09mso-footer-margin%3A.5in%3B%0D%0A%09mso-paper-source%3A0%3B%7D%0D%0Adiv.WordSection1%0D%0A%09%7Bpage%3AWordSection1%3B%7D%0D%0A%2D%2D%3E--></style>\n<p class="MsoNormal" style="text-justify: inter-ideograph\; text-align: justify\; line-height: 115%">\n	<b><span style="line-height: 115%\; mso-bidi-font-size: 11.0pt\; mso-fareast-font-family: 'times new roman'\; mso-bidi-font-family: calibri">Hoppy </span></b><b style="mso-bidi-font-weight: normal"><span style="line-height: 115%\; mso-bidi-font-size: 11.0pt\; mso-fareast-font-family: 'times new roman'\; mso-bidi-font-family: calibri">Oktoberfest!</span></b></p>\n<p class="MsoNormal" style="text-justify: inter-ideograph\; text-align: justify\; line-height: 115%">\n	<span style="line-height: 115%\; mso-bidi-font-size: 11.0pt\; mso-fareast-font-family: 'times new roman'\; mso-bidi-font-family: calibri">&nbsp\;</span></p>\n<p class="MsoNormal" style="text-justify: inter-ideograph\; text-align: justify\; line-height: 115%">\n	<span style="line-height: 115%\; mso-bidi-font-size: 11.0pt\; mso-fareast-font-family: 'times new roman'\; mso-bidi-font-family: calibri">Celebrate </span>Oktoberfest Mad Fox style with an all day party in our Biergarten where we extend our patio into the street and onto Market Square with tables/chairs and high top bar tables.<span style="mso-spacerun: yes">&nbsp\; </span></p>\n<p class="MsoNormal" style="text-justify: inter-ideograph\; text-align: justify\; line-height: 115%">\n	&nbsp\;</p>\n<p class="MsoNormal" style="text-justify: inter-ideograph\; text-align: justify\; line-height: 115%">\n	Beer Menu</p>\n<p class="MsoNormal" style="text-justify: inter-ideograph\; text-align: justify\; line-height: 115%">\n	&nbsp\;</p>\n<p class="MsoNormal" style="text-justify: inter-ideograph\; text-align: justify\; line-height: 115%">\n	<u>Mad Fox Beers</u></p>\n<p class="MsoNormal" style="text-justify: inter-ideograph\; text-align: justify\; line-height: 115%">\n	Hitzi Frau Oktoberfest Lagerbier</p>\n<p class="MsoNormal" style="text-justify: inter-ideograph\; text-align: justify\; line-height: 115%">\n	Orange Whip IPA</p>\n<p class="MsoNormal" style="text-justify: inter-ideograph\; text-align: justify\; line-height: 115%">\n	Molotov Hoptail</p>\n<p class="MsoNormal" style="text-justify: inter-ideograph\; text-align: justify\; line-height: 115%">\n	Dingo IPA</p>\n<p class="MsoNormal" style="text-justify: inter-ideograph\; text-align: justify\; line-height: 115%">\n	&nbsp\;</p>\n<p class="MsoNormal" style="text-justify: inter-ideograph\; text-align: justify\; line-height: 115%">\n	<u>Regional IPAs </u></p>\n<p class="MsoNormal" style="text-justify: inter-ideograph\; text-align: justify\; line-height: 115%">\n	AleWerks Drake Tail IPA and Caledonia</p>\n<p class="MsoNormal" style="text-justify: inter-ideograph\; text-align: justify\; line-height: 115%">\n	DC Brau Deus Ex Machine and Corruption Ale</p>\n<p class="MsoNormal" style="text-justify: inter-ideograph\; text-align: justify\; line-height: 115%">\n	Evolution Lot No. 3 IPA and Lot No. 6 DIPA</p>\n<p class="MsoNormal" style="text-justify: inter-ideograph\; text-align: justify\; line-height: 115%">\n	Lost Rhino Face Plant IPA</p>\n<p class="MsoNormal" style="text-justify: inter-ideograph\; text-align: justify\; line-height: 115%">\n	Port City Monument IPA</p>\n<p class="MsoNormal" style="text-justify: inter-ideograph\; text-align: justify\; line-height: 115%">\n	&nbsp\;</p>\n<p class="MsoNormal" style="text-justify: inter-ideograph\; text-align: justify\; line-height: 115%">\n	<i style="mso-bidi-font-style: normal">All beers available in 8 and 16-ounce servings\, while supplies last</i></p>\n<p class="MsoNormal" style="text-justify: inter-ideograph\; text-align: justify\; line-height: 115%">\n	&nbsp\;</p>\n<p class="MsoNormal" style="text-justify: inter-ideograph\; text-align: justify\; line-height: 115%">\n	<u>Food Menu</u></p>\n<p class="MsoNormal" style="text-justify: inter-ideograph\; text-align: justify\; line-height: 115%">\n	Ale Braised German Sausages on French rolls with Ale Mustard and Sauerkraut</p>\n<p class="MsoNormal" style="text-justify: inter-ideograph\; text-align: justify\; line-height: 115%">\n	Pretzel Twists</p>\n<p class="MsoNormal" style="text-justify: inter-ideograph\; text-align: justify\; line-height: 115%">\n	Chesapeake Potato Chips<span style="mso-spacerun: yes">&nbsp\; </span></p>\n<p class="MsoNormal" style="text-justify: inter-ideograph\; text-align: justify\; line-height: 115%">\n	Mad Fox House-Brewed Root Beer</p>\n<p class="MsoNormal" style="text-justify: inter-ideograph\; text-align: justify\; line-height: 115%">\n	Bottled Water</p>\n<p class="MsoNormal" style="text-justify: inter-ideograph\; text-align: justify\; line-height: 115%">\n	&nbsp\;</p>\n<p class="MsoNormal" style="text-justify: inter-ideograph\; text-align: justify\; line-height: 115%">\n	<u><span style="line-height: 115%\; mso-bidi-font-size: 11.0pt\; mso-bidi-font-family: cambria\; mso-ascii-font-family: calibri\; mso-ascii-theme-font: major-latin\; mso-hansi-font-family: calibri\; mso-hansi-theme-font: major-latin\; mso-bidi-theme-font: minor-latin">Live Music</span></u></p>\n<p class="MsoNormal" style="text-justify: inter-ideograph\; text-align: justify\; line-height: 115%">\n	<a href="http://johntaglieri.com/"><span style="text-decoration: none\; mso-ascii-font-family: calibri\; mso-ascii-theme-font: major-latin\; mso-hansi-font-family: calibri\; mso-hansi-theme-font: major-latin\; text-underline: none">John Taglieri</span></a><span class="MsoHyperlink"><span style="text-decoration: none\; mso-ascii-font-family: calibri\; mso-ascii-theme-font: major-latin\; mso-hansi-font-family: calibri\; mso-hansi-theme-font: major-latin\; text-underline: none"> (1pm to 5pm)</span></span></p>\n
LOCATION:Mad Fox Brewing Company 444 W. Broad Street Falls Church\, VA
UID:e.1250.343
SEQUENCE:3
DTSTAMP:20260425T234847Z
URL:https://business.fallschurchchamber.org/events/details/oktoberfest-at-mad-fox-brewing-company-09-23-2012-343
END:VEVENT

END:VCALENDAR
