BEGIN:VCALENDAR
VERSION:2.0
PRODID:-//ChamberMaster//Event Calendar 2.0//EN
METHOD:PUBLISH
X-PUBLISHED-TTL:P3D
REFRESH-INTERVAL:P3D
CALSCALE:GREGORIAN
BEGIN:VEVENT
DTSTART:20120322T200000Z
DTEND:20120322T233000Z
X-MICROSOFT-CDO-ALLDAYEVENT:FALSE
SUMMARY:Open House at E.nopi\, Falls Church
DESCRIPTION:E.Nopi is hosting 2 open houses that will feature program information\, an opportunity to meet the teachers\, children's activities\, raffles\, and delicious food and refreshments.
X-ALT-DESC;FMTTYPE=text/html:E.Nopi is hosting 2 open houses that will feature program information\, an opportunity to meet the teachers\, children&#39\;s activities\, raffles\, and delicious food and refreshments.
LOCATION:E.Nopi\, Falls Church 105 N. Virginia Ave\, Suite 310 Falls Church\, VA 22046
UID:e.1250.233
SEQUENCE:3
DTSTAMP:20260425T134754Z
URL:https://business.fallschurchchamber.org/events/details/open-house-at-e-nopi-falls-church-03-22-2012-233
END:VEVENT

END:VCALENDAR
