BEGIN:VCALENDAR
VERSION:2.0
PRODID:-//ChamberMaster//Event Calendar 2.0//EN
METHOD:PUBLISH
X-PUBLISHED-TTL:P3D
REFRESH-INTERVAL:P3D
CALSCALE:GREGORIAN
BEGIN:VEVENT
DTSTART:20120804T150000Z
DTEND:20120804T190000Z
X-MICROSOFT-CDO-ALLDAYEVENT:FALSE
SUMMARY:Open House for new location at Always There Pet Care and 18th Anniversary Party
DESCRIPTION:To celebrate the new facility and their 18th Anniversary\, ATPC is hosting an open house Sat\, Aug 4 from 11am-3pm complete with snacks\, tours of the facility and opportunities to "Ask the Trainer."
X-ALT-DESC;FMTTYPE=text/html:To celebrate the new facility and their 18th Anniversary\, ATPC is hosting an open house Sat\, Aug 4 from 11am-3pm complete with snacks\, tours of the facility and opportunities to &quot\;Ask the Trainer.&quot\;
LOCATION:8305 A Merrifield Ave Fairfax\, Va 22030 (by Dunn Loring Metro)
UID:e.1250.313
SEQUENCE:3
DTSTAMP:20260425T235005Z
URL:https://business.fallschurchchamber.org/events/details/open-house-for-new-location-at-always-there-pet-care-and-18th-anniversary-party-08-04-2012-313
END:VEVENT

END:VCALENDAR
