BEGIN:VCALENDAR
VERSION:2.0
PRODID:-//ChamberMaster//Event Calendar 2.0//EN
METHOD:PUBLISH
X-PUBLISHED-TTL:P3D
REFRESH-INTERVAL:P3D
CALSCALE:GREGORIAN
BEGIN:VEVENT
DTSTART:20120510T223000Z
DTEND:20120511T020000Z
X-MICROSOFT-CDO-ALLDAYEVENT:FALSE
SUMMARY:Open Kitchen at Cuisine des Artistes
DESCRIPTION:Mark your calendar for DC Arts Center's biennial celebration of culinary and artistic talent! This unique fundraising event features performing artists\, design by visual artists\, and food created by culinary masters including Open Kitchen's own Executive Chef\, Kenneth C. Hughes. Join us at the Meridian House Thursday May 10th for Cuisine des Artistes!\n\n\n\nhttp://cuisinedesartistes2012.charityhappenings.org/
X-ALT-DESC;FMTTYPE=text/html:Mark your calendar for DC Arts Center&rsquo\;s biennial celebration of culinary and artistic talent! This unique fundraising event features performing artists\, design by visual artists\, and food created by culinary masters including Open Kitchen&rsquo\;s own Executive Chef\, Kenneth C. Hughes. Join us at the Meridian House Thursday May 10th for Cuisine des Artistes!<br />\n<br />\nhttp://cuisinedesartistes2012.charityhappenings.org/
LOCATION:Meridian House at 1630 Crescent Place NW Washington\, DC 20009
UID:e.1250.246
SEQUENCE:3
DTSTAMP:20260425T165213Z
URL:https://business.fallschurchchamber.org/events/details/open-kitchen-at-cuisine-des-artistes-05-10-2012-246
END:VEVENT

END:VCALENDAR
