BEGIN:VCALENDAR
VERSION:2.0
PRODID:-//ChamberMaster//Event Calendar 2.0//EN
METHOD:PUBLISH
X-PUBLISHED-TTL:P3D
REFRESH-INTERVAL:P3D
CALSCALE:GREGORIAN
BEGIN:VEVENT
DTSTART:20120429T150000Z
DTEND:20120429T210000Z
X-MICROSOFT-CDO-ALLDAYEVENT:FALSE
SUMMARY:Open Kitchen Tasting at Parade of Homes
DESCRIPTION:Join us Sunday April 29th at the Parade of Homes Remodeled Tour in Fairfax. Executive Chef Ken will be doing a demonstaration and we'll be sampling some tastes from our kitchen!  We'll be in the featured home by Sun Design at 4724 Holly Avenue\, Fairfax\, VA 22030.
X-ALT-DESC;FMTTYPE=text/html:Join us Sunday April 29th at the Parade of Homes Remodeled Tour in Fairfax. Executive Chef Ken will be doing a demonstaration and we&rsquo\;ll be sampling some tastes from our kitchen! &nbsp\;We&#39\;ll be in the featured home by Sun Design at 4724 Holly Avenue\, Fairfax\, VA 22030.
LOCATION:4724 Holly Avenue\, Fairfax\, VA 22030
UID:e.1250.245
SEQUENCE:3
DTSTAMP:20260425T151900Z
URL:https://business.fallschurchchamber.org/events/details/open-kitchen-tasting-at-parade-of-homes-04-29-2012-245
END:VEVENT

END:VCALENDAR
