BEGIN:VCALENDAR
VERSION:2.0
PRODID:-//ChamberMaster//Event Calendar 2.0//EN
METHOD:PUBLISH
X-PUBLISHED-TTL:P3D
REFRESH-INTERVAL:P3D
CALSCALE:GREGORIAN
BEGIN:VEVENT
DTSTART:20120707T210000Z
DTEND:20120708T020000Z
X-MICROSOFT-CDO-ALLDAYEVENT:FALSE
SUMMARY:Open Kitchen Weekend Recovery Party
DESCRIPTION:Due to the recent power outage\, we will be back up and running Friday July 6\, 2012.  \n\n	Because all of our menu items are made by hand from locally sourced ingredients\, our culinary team is dedicated to doing things the right way\, even though that means it takes a little more time.  Our staff has been diligently working to prepare for Friday night's dinner service.  \n\n	Celebrate the power of electricity with us during our Recovery Party this weekend!  We will be featuring half price bottles of wine from 5pm-630pm Friday\, Saturday and Sunday nights!\n\n	We hope that all of our Open Kitchen friends and family are safe and well....and all have power!  \n\n	See you this weekend!
X-ALT-DESC;FMTTYPE=text/html:<div style="color: gray">\n	<strong><span style="font-size: 11pt"><span style="color: maroon"><span style="font-family: century gothic\, sans-serif">Due to the recent power outage\, we will be back up and running Friday July 6\, 2012.</span></span></span></strong> &nbsp\;<br />\n	<span style="font-size: 11pt"><span style="color: maroon"><span style="font-family: century gothic\, sans-serif">Because all of our menu items are made by hand from locally sourced ingredients\, our culinary team is dedicated to doing things the right way\, even though that means it takes a little more time. &nbsp\;Our staff has been diligently working to prepare for Friday night&#39\;s dinner service. &nbsp\;</span></span></span><br />\n	<strong><span style="font-size: 11pt"><span style="color: maroon"><span style="font-family: century gothic\, sans-serif">Celebrate the power of electricity with us during our Recovery Party this weekend! &nbsp\;We will be featuring half price bottles of wine from 5pm-630pm Friday\, Saturday and Sunday nights!</span></span></span></strong><br />\n	<span style="font-size: 11pt"><span style="color: maroon"><span style="font-family: century gothic\, sans-serif">We hope that all of our Open Kitchen friends and family are safe and well....and all have power! &nbsp\;</span></span></span><br />\n	<span style="font-size: 11pt"><span style="color: maroon"><span style="font-family: century gothic\, sans-serif"><span style="font-family: century gothic">See you this weekend!</span></span></span></span></div>\n
LOCATION:Open Kitchen 7115 Leesburg Pike\, #107 Falls Church\, VA
UID:e.1250.304
SEQUENCE:3
DTSTAMP:20260425T202112Z
URL:https://business.fallschurchchamber.org/events/details/open-kitchen-weekend-recovery-party-07-07-2012-304
END:VEVENT

END:VCALENDAR
