BEGIN:VCALENDAR
VERSION:2.0
PRODID:-//ChamberMaster//Event Calendar 2.0//EN
METHOD:PUBLISH
X-PUBLISHED-TTL:P3D
REFRESH-INTERVAL:P3D
CALSCALE:GREGORIAN
BEGIN:VEVENT
DTSTART;VALUE=DATE:20120512
DTEND;VALUE=DATE:20120513
TRANSP:TRANSPARENT
X-MICROSOFT-CDO-ALLDAYEVENT:TRUE
SUMMARY:Open Studios at Stifel and Capra
DESCRIPTION:Join the 14 artists of Little City Studios at Stifel & Capra for an Open House\, just in time for Mother's Day last minute shoppers. Artists will be on hand\, some doing demonstrations and talking about their work. Featured will be paintings\, jewelry\, fused glassware\, cards\, prints. Artists will be offering special items and discounts up to 50% off for the Open House only. Stop by and visit the artists in their Little City Studios. More info at: littlecitystudios.com.\n\n\n\nFree Demonstrations:\n\n11am: Icon Painting by Laura Clerici. Laura approaches her art in the traditional way\, starting with her materials\, making her own tempra paint. She draws on Greek and Eastern European prototypes.\n\n\n\n1pm: Pastel demonstration by Concetta Scott. Concetta will be working on a pastel piece showing how to layer colors and blend. She will be working from a still life set -up in a traditional style.\n\n\n\n2pm: Painting in Oil with Jane McElvany Coonce. Watch Jane as she demonstrates her technique of painting reflections in water. Jane is well known for her beautiful water scenes.
X-ALT-DESC;FMTTYPE=text/html:Join the 14 artists of Little City Studios at Stifel &amp\; Capra for an Open House\, just in time for Mother&#39\;s Day last minute shoppers. Artists will be on hand\, some doing demonstrations and talking about their work. Featured will be paintings\, jewelry\, fused glassware\, cards\, prints. Artists will be offering special items and discounts up to 50% off for the Open House only. Stop by and visit the artists in their Little City Studios. More info at: littlecitystudios.com.<br />\n<br />\nFree Demonstrations:<br />\n11am: Icon Painting by Laura Clerici. Laura approaches her art in the traditional way\, starting with her materials\, making her own tempra paint. She draws on Greek and Eastern European prototypes.<br />\n<br />\n1pm: Pastel demonstration by Concetta Scott. Concetta will be working on a pastel piece showing how to layer colors and blend. She will be working from a still life set -up in a traditional style.<br />\n<br />\n2pm: Painting in Oil with Jane McElvany Coonce. Watch Jane as she demonstrates her technique of painting reflections in water. Jane is well known for her beautiful water scenes.<br />\n&nbsp\;
LOCATION:Stifle & Capra\, 2nd Floor\, 260 W. Broad Street\, Falls Church\, VA 22046
UID:e.1250.249
SEQUENCE:3
DTSTAMP:20260425T165049Z
URL:https://business.fallschurchchamber.org/events/details/open-studios-at-stifel-and-capra-05-12-2012-249
END:VEVENT

END:VCALENDAR
