BEGIN:VCALENDAR
VERSION:2.0
PRODID:-//ChamberMaster//Event Calendar 2.0//EN
METHOD:PUBLISH
X-PUBLISHED-TTL:P3D
REFRESH-INTERVAL:P3D
CALSCALE:GREGORIAN
BEGIN:VEVENT
DTSTART;VALUE=DATE:20111025
DTEND;VALUE=DATE:20111026
TRANSP:TRANSPARENT
X-MICROSOFT-CDO-ALLDAYEVENT:TRUE
SUMMARY:Original Pancake House Fundraiser
DESCRIPTION:Original Pancake House Fundraiser - OPH is donating 15% of proceeds on Thurs\, Oct 27 to Alternative House.\n\n	\n\n	 For more info visit www.TheAtternativeHouse.org.
X-ALT-DESC;FMTTYPE=text/html:<p style="margin-top: 0px\; margin-bottom: 0px\; color: #245c7b\; font-size: 12pt">\n	<strong>Original Pancake House Fundraiser</strong> - OPH is donating 15% of proceeds on Thurs\, Oct 27 to Alternative House.<br />\n	<br />\n	&nbsp\;For more info visit <a href="http://r20.rs6.net/tn.jsp?llr=mkmuencab&amp\;et=1108294896625&amp\;s=393&amp\;e=001I5i493ocWhb2EPGuOus-0P4AmW0stxoIzscPm3M3uLWTwdf21YFOh5SMRR3EwoIQm_lUZqQeUBwuCcf1-FgWc3cb5gBNFgEdI2uiz0-TynCsfE9xUZ1FxBFdXtSj5T6r" shape="rect" style="color: #008000" target="_blank" title="http://r20.rs6.net/tn.jsp?llr=mkmuencab&amp\;et=1108294896625&amp\;s=393&amp\;e=001I5i493ocWhb2EPGuOus-0P4AmW0stxoIzscPm3M3uLWTwdf21YFOh5SMRR3EwoIQm_lUZqQeUBwuCcf1-FgWc3cb5gBNFgEdI2uiz0-TynCsfE9xUZ1FxBFdXtSj5T6r">www.TheAtternativeHouse.org</a>.<span _fck_bookmark="1" style="display: none">&nbsp\;</span></p>\n
LOCATION:OPH is now located at 7395 Lee Hwy
UID:e.1250.166
SEQUENCE:3
DTSTAMP:20260423T055448Z
URL:https://business.fallschurchchamber.org/events/details/original-pancake-house-fundraiser-10-25-2011-166
END:VEVENT

END:VCALENDAR
