BEGIN:VCALENDAR
VERSION:2.0
PRODID:-//ChamberMaster//Event Calendar 2.0//EN
METHOD:PUBLISH
X-PUBLISHED-TTL:P3D
REFRESH-INTERVAL:P3D
CALSCALE:GREGORIAN
BEGIN:VEVENT
DTSTART:20120729T180000Z
DTEND:20120729T210000Z
X-MICROSOFT-CDO-ALLDAYEVENT:FALSE
SUMMARY:Party with a Purpose
DESCRIPTION:Sunday July 29\, 2012 Open Kitchen will partner with Blues musicians from the Tinner Hill Heritage Foundation to host "Party with a Purpose." Party with a Purpose is a series of monthly private performances by outstanding local musicians to raise funds in support of the Tinner Hill Heritage Foudnation on a year-round basis! These private performances will take place on the terrace at Open Kitchen the last Sunday of each month from 2pm-5pm. Open Kitchen will also feature gourmet snacks and artisan wines available for purchase.\n\n\n\nThe inaugural event will take place Sunday July 29\, 2012 with musicians\, Gina DeSimone and Pat Quinn. They are an acoustic/electric blues duo featuring a unique combination of funky fingerpicking\, upright bass and vocal harmonies. These accomplished musicians bring enthusiastic light-hearted energy providing an evening of feel good fun.\n\n\n\nAdvance tickets are required for these private performances. Tickets are available for purchase at http://www.brownpapertickets.com/event/259264 for $20. No walk-ins will be accepted. All ticket proceeds from each performance will be donated to the Tinner Hill Heritage Foundation.
X-ALT-DESC;FMTTYPE=text/html:Sunday July 29\, 2012 Open Kitchen will partner with Blues musicians from the Tinner Hill Heritage Foundation to host &ldquo\;Party with a Purpose.&rdquo\; Party with a Purpose is a series of monthly private performances by outstanding local musicians to raise funds in support of the Tinner Hill Heritage Foudnation on a year-round basis! These private performances will take place on the terrace at Open Kitchen the last Sunday of each month from 2pm-5pm. Open Kitchen will also feature gourmet snacks and artisan wines available for purchase.<br />\n<br />\nThe inaugural event will take place Sunday July 29\, 2012 with musicians\, Gina DeSimone and Pat Quinn. They are an acoustic/electric blues duo featuring a unique combination of funky fingerpicking\, upright bass and vocal harmonies. These accomplished musicians bring enthusiastic light-hearted energy providing an evening of feel good fun.<br />\n<br />\nAdvance tickets are required for these private performances. Tickets are available for purchase at http://www.brownpapertickets.com/event/259264 for $20. No walk-ins will be accepted. All ticket proceeds from each performance will be donated to the Tinner Hill Heritage Foundation.<br />\n&nbsp\;
LOCATION:Open Kitchen\, 7115 Leesburg Pike #107\, Falls Church\, VA 22043
UID:e.1250.307
SEQUENCE:3
DTSTAMP:20260425T202101Z
URL:https://business.fallschurchchamber.org/events/details/party-with-a-purpose-07-29-2012-307
END:VEVENT

END:VCALENDAR
