BEGIN:VCALENDAR
VERSION:2.0
PRODID:-//ChamberMaster//Event Calendar 2.0//EN
METHOD:PUBLISH
X-PUBLISHED-TTL:P3D
REFRESH-INTERVAL:P3D
CALSCALE:GREGORIAN
BEGIN:VEVENT
DTSTART:20190106T003000Z
DTEND:20190106T020000Z
X-MICROSOFT-CDO-ALLDAYEVENT:FALSE
SUMMARY:Creative Cauldron Presents Passport to the World 2019: Patsy Cline Tribute: Six Voices
DESCRIPTION:Patsy Cline was one of the most influential and acclaimed vocalists of the 21st century\, and a true pioneer for women in the music industry. DC vocalists - Jess Eliot Myhre\, Maureen Adrady\, Karen Jonas\, Kitty Gartner\, Brian Farrow and Lauren Calve - pay tribute to Virginia's country music icon in a night of song and story.
X-ALT-DESC;FMTTYPE=text/html:Patsy Cline was one of the most influential and acclaimed vocalists of the 21st century\, and a true pioneer for women in the music industry. DC vocalists - Jess Eliot Myhre\, Maureen Adrady\, Karen Jonas\, Kitty Gartner\, Brian Farrow and Lauren Calve - pay tribute to Virginia&rsquo\;s country music icon in a night of song and story.
LOCATION:Creative Cauldron 410 South Maple Avenue Falls Church\, VA. 22046
UID:e.1250.32517
SEQUENCE:3
DTSTAMP:20260423T031507Z
URL:https://business.fallschurchchamber.org/events/details/patsy-cline-tribute-six-voices-32517
END:VEVENT

END:VCALENDAR
