BEGIN:VCALENDAR
VERSION:2.0
PRODID:-//ChamberMaster//Event Calendar 2.0//EN
METHOD:PUBLISH
X-PUBLISHED-TTL:P3D
REFRESH-INTERVAL:P3D
CALSCALE:GREGORIAN
BEGIN:VEVENT
DTSTART:20251122T003000Z
DTEND:20251122T023000Z
X-MICROSOFT-CDO-ALLDAYEVENT:FALSE
SUMMARY:Peter Pan and Wendy
DESCRIPTION:Second star to the right and straight on till morning!  With that simple phrase we return to the imaginative world of J.M. Barrie's Neverland with a fresh new musical adaptation.  When Wendy meets Peter\, the little boy who refuses to grow up\, the adventure for the Darling children begins.  With a few magical thoughts they learn to fly and Peter leads them on an adventure of a lifetime! Soon they meet mermaid divas\, a brave band of Neverland warriors\, and\, of course\, those rascally pirates led by the dastardly Captain Hook. Featuring a full musical score by Matt Conner and Stephen Gregory Smith\, and Spanish language infusion\, this is a show that will capture the imagination of young and old alike!
X-ALT-DESC;FMTTYPE=text/html:<span style="color:rgb(0\, 0\, 0)\; font-family:oxygen\; font-size:15px">Second star to the right and straight on till morning!&nbsp\; With that simple phrase we return to the imaginative world of J.M. Barrie&rsquo\;s Neverland with a fresh new musical adaptation.&nbsp\; When Wendy meets Peter\, the little boy who refuses to grow up\, the adventure for the Darling children begins.&nbsp\; With a few magical thoughts they learn to fly and Peter leads them on an adventure of a lifetime! Soon they meet mermaid divas\, a brave band of Neverland warriors\, and\, of course\, those rascally pirates led by the dastardly Captain Hook. Featuring a full musical score by Matt Conner and Stephen Gregory Smith\, and Spanish language infusion\, this is a show that will capture the imagination of young and old alike!</span>
LOCATION:127 E Broad St Falls Church\, VA 22046
UID:e.1250.81790
SEQUENCE:3
DTSTAMP:20260420T120053Z
URL:https://business.fallschurchchamber.org/events/details/peter-pan-and-wendy-11-21-2025-81790
END:VEVENT

END:VCALENDAR
