BEGIN:VCALENDAR
VERSION:2.0
PRODID:-//ChamberMaster//Event Calendar 2.0//EN
METHOD:PUBLISH
X-PUBLISHED-TTL:P3D
REFRESH-INTERVAL:P3D
CALSCALE:GREGORIAN
BEGIN:VEVENT
DTSTART:20250613T233000Z
DTEND:20250614T013000Z
X-MICROSOFT-CDO-ALLDAYEVENT:FALSE
SUMMARY:Providence Players new show: "Shooting Star" with Special Presentation
DESCRIPTION:Just prior tonight's performance of Shooting Star\, Providence Players President\, Kevin Harnisch will present the annual Gerry Connolly Scholarship Award.  Congressman Connolly's widow\, Smitty Connolly\, and Supervisor Jimenez will speak.  The doors open at 7:00 pm\n\n\n\nIn this bittersweet romantic comedy\, college lovers\, Elena Carson and Reed McAllister\, are snowed in overnight at a middle-America airport. They have not seen each other for years and are moved by this unexpected reunion. Elena has stayed true to her hippie-ish\, counter-culture path\, while Reed has gone predictably corporate and conservative.\n\n \n\nAs the night gives way to laughter\, banter\, remembrance\, and alcohol\, Elena and Reed revisit a past that holds more surprises than they imagined   and a present that neither of them could have predicted. Shooting Star explores the middle years of our lives and how we get there.
X-ALT-DESC;FMTTYPE=text/html:<span style="font-size:14px\;"><span style="font-family:verdana\;">Just prior tonight&#39\;s performance of Shooting Star\, Providence Players President\, Kevin Harnisch will present the annual Gerry Connolly Scholarship Award.&nbsp\; Congressman Connolly&#39\;s widow\, Smitty Connolly\, and Supervisor Jimenez will speak.&nbsp\; The doors open at 7:00 pm<br />\n<br />\nIn</span><span style="color:#333333\;"><span style="font-family:arial\,sans-serif\;">&nbsp\;</span></span><span style="font-family:verdana\;">this bittersweet romantic comedy\, college lovers\, Elena Carson and Reed McAllister\, are snowed in overnight at a middle-America airport. They have not seen each other for years and are moved by this unexpected reunion. Elena has stayed true to her hippie-ish\, counter-culture path\, while Reed has gone predictably corporate and conservative.<br />\n&nbsp\;<br />\nAs the night gives way to laughter\, banter\, remembrance\, and alcohol\, Elena and Reed revisit a past that holds more surprises than they imagined &ndash\; and a present that neither of them could have predicted. Shooting Star explores the middle years of our lives and how we get there.</span></span>
LOCATION:
UID:e.1250.80969
SEQUENCE:3
DTSTAMP:20260420T134037Z
URL:https://business.fallschurchchamber.org/events/details/providence-players-new-show-shooting-star-with-special-presentation-80969
END:VEVENT

END:VCALENDAR
