BEGIN:VCALENDAR
VERSION:2.0
PRODID:-//ChamberMaster//Event Calendar 2.0//EN
METHOD:PUBLISH
X-PUBLISHED-TTL:P3D
REFRESH-INTERVAL:P3D
CALSCALE:GREGORIAN
BEGIN:VEVENT
DTSTART:20120922T133000Z
DTEND:20120922T163000Z
X-MICROSOFT-CDO-ALLDAYEVENT:FALSE
SUMMARY:PRS "50 walkers for 50 years" team in the NAMI Northern Virginia Walk
DESCRIPTION:Award-winning\, local community nonprofit PRS\, Inc. is kicking off its 50th Anniversary by forming a 50 Walkers for 50 Years walking team to participate in the NAMI Northern Virginia Walk at 9:30am Saturday\, September 22\, 2012 at the Fairfax County Governmental Center.  The cost to participate on the PRS team is only $20\, which helps us pay for team t-shirts and underwrites a team contribution to NAMI Northern Virginia.  Can't walk but still want to help?  Your $50 donation will defray the participation costs for PRS client-walkers.  Go to www.prsinc.org/fiftyfor the registration form.  Questions?  Call 703-531-6351 or email tenright@prsinc.org.
X-ALT-DESC;FMTTYPE=text/html:<div style="color: gray">\n	<span style="color: #1f497d"><span style="font-size: medium"><span style="font-family: calibri">Award-winning\, local community nonprofit PRS\, Inc. is kicking off its 50th Anniversary by forming a <strong><em>50 Walkers for 50 Years</em></strong> walking team to participate in the NAMI Northern Virginia Walk at 9:30am Saturday\, September 22\, 2012 at the Fairfax County Governmental Center.&nbsp\; The cost to participate on the PRS team is only $20\, which helps us pay for team t-shirts and underwrites a team contribution to NAMI Northern Virginia.&nbsp\; Can&rsquo\;t walk but still want to help?&nbsp\; Your $50 donation will defray the participation costs for PRS client-walkers.&nbsp\; Go to </span></span></span><a href="http://www.prsinc.org/fifty"><span style="font-size: medium"><span style="font-family: calibri">www.prsinc.org</span></span></a><span style="font-size: medium"><span style="font-family: calibri">/fifty</span></span><span style="font-size: medium"><span style="font-family: calibri">for the registration form.&nbsp\; Questions?&nbsp\; Call 703-531-6351 or email </span></span><a href="mailto:tenright@prsinc.org"><span style="font-size: medium"><span style="font-family: calibri">tenright@prsinc.org</span></span></a><span style="font-size: medium"><span style="font-family: calibri">.&nbsp\;</span></span><br />\n	&nbsp\;</div>\n
LOCATION:Fairfax County Government Center
UID:e.1250.333
SEQUENCE:3
DTSTAMP:20260425T235053Z
URL:https://business.fallschurchchamber.org/events/details/prs-50-walkers-for-50-years-team-in-the-nami-northern-virginia-walk-09-22-2012-333
END:VEVENT

END:VCALENDAR
