BEGIN:VCALENDAR
VERSION:2.0
PRODID:-//ChamberMaster//Event Calendar 2.0//EN
METHOD:PUBLISH
X-PUBLISHED-TTL:P3D
REFRESH-INTERVAL:P3D
CALSCALE:GREGORIAN
BEGIN:VEVENT
DTSTART:20111203T143000Z
DTEND:20111203T173000Z
X-MICROSOFT-CDO-ALLDAYEVENT:FALSE
SUMMARY:Psychometry to Mediumship
DESCRIPTION:This is a hands on work shop were you will not only learn more about each subject\, psychometry and mediumship\, but will actually come away with more understanding of each subject and will be able to do a demonstration of psychometry with your fellow students working with you. You will see with the use of psychometry how crime detection and the science of archeology will help in determining some important facts in discovery of the things that are not explainable by other means. You will see with the use of psychometry that your enfoldment to mediumship will take you to a much different level. It is important that you take with you to this workshop a piece of jewelry or something like as watch\, ring or keys that you have with you so\, that you can use it in the hands on part of this section of psychometry. \n\n Mediumship will be defined and some of the miscommunications that it has had over the years. The following are some of the topics what we will go over:\n\n\n	\n		What is mediumship and how does it really work?\n	\n		Is there a different between psychic and mediumship?\n	\n		What are the laws of vibration and how does it work in becoming a medium? \n	\n		How do I ask for guidance for help?
X-ALT-DESC;FMTTYPE=text/html:<span style="font-size: 11px"><span style="font-family: calibri">This is a hands on work shop were you will not only learn more about each subject\, psychometry and mediumship\, but will actually come away with more understanding of each subject and will be able to do a demonstration of psychometry with your fellow students working with you. You will see with the use of psychometry how crime detection and the science of archeology will help in determining some important facts in discovery of the things that are not explainable by other means. You will see with the use of psychometry that your enfoldment to mediumship will take you to a much different level. It is important that you take with you to this workshop a piece of jewelry or something like as watch\, ring or keys that you have with you so\, that you can use it in the hands on part of this section of psychometry. </span><br />\n<span style="font-family: calibri">&nbsp\;Mediumship will be defined and some of the miscommunications that it has had over the years. The following are some of the topics what we will go over:</span></span><br />\n<ul>\n	<li>\n		<span style="font-size: 11px"><span style="font-family: calibri">What is mediumship and how does it really work?</span></span></li>\n	<li>\n		<span style="font-size: 11px"><span style="font-family: calibri">Is there a different between psychic and mediumship?</span></span></li>\n	<li>\n		<span style="font-size: 11px"><span style="font-family: calibri">What are the laws of vibration and how does it work in becoming a medium? </span></span></li>\n	<li>\n		<span style="font-size: 11px"><span style="font-family: calibri">How do I ask for guidance for help?&nbsp\;</span></span></li>\n</ul>\n
LOCATION:The Center For Spiritual Enlightenment 222 N. Washington St. FC
UID:e.1250.177
SEQUENCE:3
DTSTAMP:20260423T083256Z
URL:https://business.fallschurchchamber.org/events/details/psychometry-to-mediumship-12-03-2011-177
END:VEVENT

END:VCALENDAR
