BEGIN:VCALENDAR
VERSION:2.0
PRODID:-//ChamberMaster//Event Calendar 2.0//EN
METHOD:PUBLISH
X-PUBLISHED-TTL:P3D
REFRESH-INTERVAL:P3D
CALSCALE:GREGORIAN
BEGIN:VEVENT
DTSTART:20111013T230000Z
DTEND:20111014T030000Z
X-MICROSOFT-CDO-ALLDAYEVENT:FALSE
SUMMARY:Punkin Ale Pint Night at Dogfish Head Alehouse
DESCRIPTION:Starting at 7 pm\, receive a DFHA special release Punkin Ale pint glass with your first beer purchase (while supplies last)\n\n\n\nLive music at 9 pm by Electric Co.
X-ALT-DESC;FMTTYPE=text/html:Starting at 7 pm\, receive a DFHA special release Punkin Ale pint glass with your first beer purchase (while supplies last)<br />\n<br />\nLive music at 9 pm by Electric Co.
LOCATION:Dogfhish Head Alehouse Falls Church 6220 Leesburg Pike Falls Church
UID:e.1250.160
SEQUENCE:3
DTSTAMP:20260423T055809Z
URL:https://business.fallschurchchamber.org/events/details/punkin-ale-pint-night-at-dogfish-head-alehouse-10-13-2011-160
END:VEVENT

END:VCALENDAR
