BEGIN:VCALENDAR
VERSION:2.0
PRODID:-//ChamberMaster//Event Calendar 2.0//EN
METHOD:PUBLISH
X-PUBLISHED-TTL:P3D
REFRESH-INTERVAL:P3D
CALSCALE:GREGORIAN
BEGIN:VEVENT
DTSTART;VALUE=DATE:20110831
DTEND;VALUE=DATE:20110901
TRANSP:TRANSPARENT
X-MICROSOFT-CDO-ALLDAYEVENT:TRUE
SUMMARY:Punkin Ale Release Party
DESCRIPTION:Dogfish Head Alehouse is holding a Punkin Ale Seasonal Release Party on Wed. August 31.  Call 703-534-3342 for details.
X-ALT-DESC;FMTTYPE=text/html:Dogfish Head Alehouse is holding a Punkin Ale Seasonal Release Party on Wed. August 31.&nbsp\; Call 703-534-3342 for details.
LOCATION:Dogfish Head Alehouse 6220 Leesburg Pike Falls Church
UID:e.1250.9
SEQUENCE:3
DTSTAMP:20260423T032539Z
URL:https://business.fallschurchchamber.org/events/details/punkin-ale-release-party-08-31-2011-9
END:VEVENT

END:VCALENDAR
