BEGIN:VCALENDAR
VERSION:2.0
PRODID:-//ChamberMaster//Event Calendar 2.0//EN
METHOD:PUBLISH
X-PUBLISHED-TTL:P3D
REFRESH-INTERVAL:P3D
CALSCALE:GREGORIAN
BEGIN:VEVENT
DTSTART:20250624T170000Z
DTEND:20250624T180000Z
X-MICROSOFT-CDO-ALLDAYEVENT:FALSE
SUMMARY:PWR Parkinson's class
DESCRIPTION:This group class is for people with Parkinson Disease who want to continue to decrease their symptoms\, prevent progression\, and move well. The exercises in the class target common issues that arise with PD\, including stiffness\, slowness\, coordination\, and automaticity. Kirsten Bodensteiner\, PT\, DPT is trained and certified in the PWR! Moves system of exercise for PD\, which are a powerful\, evidence-based tool for addressing PD symptoms.
X-ALT-DESC;FMTTYPE=text/html:<span style="font-size:12px"><span style="color:rgb(85\, 85\, 85)\; font-family:helvetica neue\,helvetica\,lucida grande\,lucida sans unicode\,lucida sans\,arial\,sans-serif">This group class is for people with Parkinson Disease who want to continue to decrease their symptoms\, prevent progression\, and move well. The exercises in the class target common issues that arise with PD\, including stiffness\, slowness\, coordination\, and automaticity. Kirsten Bodensteiner\, PT\, DPT is trained and certified in the PWR! Moves system of exercise for PD\, which are a powerful\, evidence-based tool for addressing PD symptoms.</span></span>
LOCATION:
UID:e.1250.81047
SEQUENCE:3
DTSTAMP:20260420T132235Z
URL:https://business.fallschurchchamber.org/events/details/pwr-parkinson-s-class-81047
END:VEVENT

END:VCALENDAR
