BEGIN:VCALENDAR
VERSION:2.0
PRODID:-//ChamberMaster//Event Calendar 2.0//EN
METHOD:PUBLISH
X-PUBLISHED-TTL:P3D
REFRESH-INTERVAL:P3D
CALSCALE:GREGORIAN
BEGIN:VEVENT
DTSTART:20250117T150000Z
DTEND:20250117T170000Z
X-MICROSOFT-CDO-ALLDAYEVENT:FALSE
SUMMARY:Quinn's Auction Galleries Books Auction: Winter Shelf Lot Sale
DESCRIPTION:Books Auction: Winter Shelf Lot\n\nFriday\, January 17th starting at 12:00pm EST\n\nQuinn's Auction Galleries is pleased to present our latest Book Auction. \n\nSALE INFO:\n\nJanuary 17th\n\nFirst lot closing at 12:00pm Eastern\n\n27% Buyer's Premium\n\nFeatured items: The Suffragette\, E. Sylvia Plankhurst\, 1911\; The History of England\, David Hume\, 1807\; Collection of Works\, Edward Gorey\, 1969-1980\; and more!\n\n\n\nPREVIEW INFO:\n\nJan. 13th-16th 11:00am-4:00pm\n\nNO preview on weekends.\n\nTo request a condition report\, please email diana@quinnsauction.com\n\nPICKUP INFO:\n\nJan. 20th-24th 10:30am-5:30pm\n\nAppointments strongly encouraged. Please email diana@quinnsauction.com to set up a time.\n\nNo weekend pick up.\n\nNO IN HOUSE SHIPPING FOR BOOK AUCTIONS. \n\nContact shipping@quinnsauction.com for our shipping partner list.
X-ALT-DESC;FMTTYPE=text/html:<h3><a href="https://quinnsauction.appspot.com/auctions/e4uxNI2jznxC4pgJv8Cv/a/Q1410-Shelf-Lot-Auction" style="box-sizing: border-box\; transition: 0.5s\; background-color: transparent\; color: rgb(0\, 0\, 0)\; text-decoration-line: none\; user-select: auto\;">Books Auction: Winter Shelf Lot</a></h3>\n\n<p>Friday\, January 17th starting at 12:00pm EST</p>\n\n<p>Quinn&#39\;s Auction Galleries is pleased to present our latest Book Auction.&nbsp\;</p>\n\n<p><strong>SALE INFO:</strong><br />\nJanuary 17th<br />\nFirst lot closing at 12:00pm Eastern<br />\n27% Buyer&#39\;s Premium<br />\nFeatured items:&nbsp\;<em>The Suffragette</em>\, E. Sylvia Plankhurst\, 1911\;&nbsp\;<em>The History of England\,&nbsp\;</em>David Hume\, 1807\; Collection of Works\, Edward Gorey\, 1969-1980\; and more!<br />\n<br />\n<strong>PREVIEW INFO:</strong><br />\nJan. 13th-16th 11:00am-4:00pm<br />\nNO preview on weekends.<br />\nTo request a condition report\, please email diana@quinnsauction.com</p>\n\n<p><strong>PICKUP INFO:</strong><br />\nJan. 20th-24th 10:30am-5:30pm<br />\nAppointments strongly encouraged. Please email diana@quinnsauction.com to set up a time.<br />\n<strong>No weekend pick up.</strong></p>\n\n<p><strong>NO IN HOUSE SHIPPING FOR BOOK AUCTIONS.</strong>&nbsp\;<br />\nContact shipping@quinnsauction.com for our shipping partner list.</p>\n
LOCATION:
UID:e.1250.78898
SEQUENCE:3
DTSTAMP:20260421T040406Z
URL:https://business.fallschurchchamber.org/events/details/quinn-s-auction-galleries-books-auction-winter-shelf-lot-sale-01-17-2025-78898
END:VEVENT

END:VCALENDAR
