BEGIN:VCALENDAR
VERSION:2.0
PRODID:-//ChamberMaster//Event Calendar 2.0//EN
METHOD:PUBLISH
X-PUBLISHED-TTL:P3D
REFRESH-INTERVAL:P3D
CALSCALE:GREGORIAN
BEGIN:VEVENT
DTSTART:20250318T130000Z
DTEND:20250318T160000Z
X-MICROSOFT-CDO-ALLDAYEVENT:FALSE
SUMMARY:Quinn's Auction Galleries Comic Book and Sports Cards Auction
DESCRIPTION:Comic Book and Sports Cards Auction\n\nTuesday\, March 18th starting at 12:00pm EST\n\nQuinn's Auction Galleries is proud to present our Comic Book Auction. Featuring Erie Comics #1 1947\, Daredevil #1\, and Golden Age Mask Comics #1 and #2.\n\nSALE INFO:\n\nMarch 18th\n\nFirst lot closing at 12:00pm Eastern\n\n27% Buyer's Premium\n\nAbsentee bidding on HiBid.\n\nLive bidding on LiveAuctioneers.\n\n\n\nPREVIEW INFO:\n\nMar. 12th-14th 11:00am-4:00pm\n\nMar. 17th 111:00am-4:00pm\n\nNO preview on weekends.\n\nIf you would like to request a condition report or have any questions please contact weekly@quinnsauction.com \n\nPICKUP INFO:\n\nMar. 20th-21st 10:30am-5:30pm\n\nMar. 24th 10:30am-5:30pm\n\nBy appointment only.\n\nLink to sign up will be included on winners' invoice..\n\nNo weekend pick up. \n\nNO IN HOUSE SHIPPING. \n\nContact shipping@quinnsauction.com for our shipping partner list.
X-ALT-DESC;FMTTYPE=text/html:<h3><a href="https://quinnsauction.hibid.com/catalog/625804/comic-book-auction-03-18-2025" style="box-sizing: border-box\; transition: 0.5s\; background-color: transparent\; color: rgb(0\, 0\, 0)\; text-decoration-line: none\; user-select: auto\;">Comic Book and Sports Cards Auction</a></h3>\n\n<p>Tuesday\, March 18th starting at 12:00pm EST</p>\n\n<p>Quinn&#39\;s Auction Galleries is proud to present our Comic Book Auction. Featuring Erie Comics #1 1947\, Daredevil #1\, and Golden Age Mask Comics #1 and #2.</p>\n\n<p><strong>SALE INFO:</strong><br />\nMarch 18th<br />\nFirst lot closing at 12:00pm Eastern<br />\n27% Buyer&#39\;s Premium<br />\nAbsentee bidding on&nbsp\;<a href="https://quinnsauction.hibid.com/auction/625804/comic-book-and-sports-cards-auction-03-18-2025" style="box-sizing: border-box\; transition: 0.5s\; background-color: transparent\; color: rgb(0\, 0\, 0)\; text-decoration-line: none\; user-select: auto\;">HiBid</a>.<br />\nLive bidding on&nbsp\;<a href="https://www.liveauctioneers.com/catalog/365914_comic-book-and-sports-cards-auction/?page=1&amp\;pageSize=48" style="box-sizing: border-box\; transition: 0.5s\; background-color: transparent\; color: rgb(0\, 0\, 0)\; text-decoration-line: none\; user-select: auto\;">LiveAuctioneers</a>.<br />\n<br />\n<strong>PREVIEW INFO:</strong><br />\nMar. 12th-14th 11:00am-4:00pm<br />\nMar. 17th 111:00am-4:00pm<br />\nNO preview on weekends.<br />\nIf you would like to request a condition report or have any questions please contact&nbsp\;<a href="mailto:weekly@quinnsauction.com?subject=Comic%20Book%20Auction" style="box-sizing: border-box\; transition: 0.5s\; background-color: transparent\; color: rgb(0\, 0\, 0)\; text-decoration-line: none\; user-select: auto\;" target="_blank">weekly@quinnsauction.com</a>&nbsp\;</p>\n\n<p><strong>PICKUP INFO:</strong><br />\nMar. 20th-21st 10:30am-5:30pm<br />\nMar. 24th 10:30am-5:30pm<br />\nBy appointment only.<br />\nLink to sign up will be included on winners&#39\; invoice..<br />\n<strong>No weekend pick up.</strong>&nbsp\;</p>\n\n<p><strong>NO IN HOUSE SHIPPING.</strong>&nbsp\;<br />\nContact shipping@quinnsauction.com for our shipping partner list.</p>\n
LOCATION:
UID:e.1250.79295
SEQUENCE:3
DTSTAMP:20260420T132813Z
URL:https://business.fallschurchchamber.org/events/details/quinn-s-auction-galleries-comic-book-and-sports-cards-auction-79295
END:VEVENT

END:VCALENDAR
