BEGIN:VCALENDAR
VERSION:2.0
PRODID:-//ChamberMaster//Event Calendar 2.0//EN
METHOD:PUBLISH
X-PUBLISHED-TTL:P3D
REFRESH-INTERVAL:P3D
CALSCALE:GREGORIAN
BEGIN:VEVENT
DTSTART:20250124T150000Z
DTEND:20250124T170000Z
X-MICROSOFT-CDO-ALLDAYEVENT:FALSE
SUMMARY:Quinn's Auction Galleries Fine and Decorative Arts Auction
DESCRIPTION:Fine and Decorative Arts Auction\n\nFriday\, January 24th\, 2025 starting at 10:00 am EDT\n\n\n\nQuinn's Auction Galleries is proud to present our Fine and Decorative Arts Auction featuring Asian\, American\, European\, and Modern arts. \n\nOffering a fine selection of American portraiture and works by Ernst Hugo von Stenglin\, Peter Waddell\, Adolf Baumgartner and Arthur Macdonald. Featuring fine prints and etchings from Frederick Mershimer\, John Taylor Arms\, Joan Miro and Salvador Dali. \n\nA collection of antique furniture including a Patton & Jones Philadelphia tall case clock\, a three tier cast iron garden fountain\, an English secretaire bookcase\, and an American Rococo Revival half tester bed. Also\, a variety of fine jewelry including necklaces\, bracelets\, rings and earrings with diamonds\, emeralds\, sapphires and amethysts\, as well as men's and ladies watches. A selection of silver including a Ritter and Sullivan five piece repousse tea set\, a  R. & W. Wilson coin silver tea pot\, and a Spanish Colonial silver charger. \n\nIn addition\, an array of Asian decorative arts including gilt copper Vajrapani figures\, Jizai Okimono articulated Spiny Lobsters\, a Yoshida\, "Fuji-San From Yamanaka" woodblock\, and a Chinese Millefleur porcelain bowl. Also offering scrolls\, snuff bottles\, and netsuke. \n\nFor a condition report or any questions\, please email jordan.karlstrand@quinnsauction.com.\n\nFor a third party shipping list and other shipping inquiries please contact shipping@quinnsauction.com\n\nLive online-only auction held on LiveAuctioneers\, Invaluable\, and through our website. NO in-person floor bids. We will be accepting phone bids placed with the gallery. For a phone bid form\, please email lori.taylor@quinnsauction.com\n\nOpen Preview:\n\nMon. Jan. 20th   Thurs. Jan. 23rd\n\n11am to 4pm
X-ALT-DESC;FMTTYPE=text/html:<h3><a href="https://www.liveauctioneers.com/catalog/358543_january-fine-and-decorative-arts-auction/" rel="noopener noreferrer" style="box-sizing: border-box\; transition: 0.5s\; background-color: transparent\; color: rgb(0\, 0\, 0)\; text-decoration-line: none\; user-select: auto\;" target="_blank">Fine and Decorative Arts Auction</a></h3>\n\n<p>Friday\, January 24th\, 2025 starting at 10:00 am EDT<br />\n<br />\nQuinn&#39\;s Auction Galleries is proud to present our Fine and Decorative Arts Auction featuring Asian\, American\, European\, and Modern arts.&nbsp\;</p>\n\n<p>Offering a fine selection of American portraiture and works by Ernst Hugo von Stenglin\, Peter Waddell\, Adolf Baumgartner and Arthur Macdonald. Featuring fine prints and etchings from Frederick Mershimer\, John Taylor Arms\, Joan Miro and Salvador Dali.&nbsp\;</p>\n\n<p>A collection of antique furniture including a Patton &amp\; Jones Philadelphia tall case clock\, a three tier cast iron garden fountain\, an English secretaire bookcase\, and an American Rococo Revival half tester bed. Also\, a variety of fine jewelry including necklaces\, bracelets\, rings and earrings with diamonds\, emeralds\, sapphires and amethysts\, as well as men&#39\;s and ladies watches. A selection of silver including a Ritter and Sullivan five piece repousse tea set\, a &nbsp\;R. &amp\; W. Wilson coin silver tea pot\, and a Spanish Colonial silver charger.&nbsp\;</p>\n\n<p>In addition\, an array of Asian decorative arts including gilt copper Vajrapani figures\, Jizai Okimono articulated Spiny Lobsters\, a Yoshida\, &quot\;Fuji-San From Yamanaka&quot\; woodblock\, and a Chinese Millefleur porcelain bowl. Also offering scrolls\, snuff bottles\, and netsuke.&nbsp\;</p>\n\n<p>For a condition report or any questions\, please email&nbsp\;<a href="mailto:jordan.karlstrand@quinnsauction.com" rel="noopener noreferrer" style="box-sizing: border-box\; transition: 0.5s\; background-color: transparent\; color: rgb(0\, 0\, 0)\; text-decoration-line: none\; user-select: auto\;" target="_blank">jordan.karlstrand@quinnsauction.com</a>.</p>\n\n<p>For a third party shipping list and other shipping inquiries please contact shipping@quinnsauction.com</p>\n\n<p>Live online-only auction held on&nbsp\;<a href="https://www.liveauctioneers.com/catalog/358543_january-fine-and-decorative-arts-auction/" rel="noopener noreferrer" style="box-sizing: border-box\; transition: 0.5s\; background-color: transparent\; color: rgb(0\, 0\, 0)\; text-decoration-line: none\; user-select: auto\;" target="_blank">LiveAuctioneers</a>\,&nbsp\;<a href="https://www.invaluable.com/catalog/j5mom4mc28?page=1&amp\;size=48" style="box-sizing: border-box\; transition: 0.5s\; background-color: transparent\; color: rgb(0\, 0\, 0)\; text-decoration-line: none\; user-select: auto\;">Invaluable</a>\, and through our&nbsp\;<a href="https://quinnsauction.hibid.com/catalog/610804/january-fine-and-decorative-arts-auction-01-24-2025" rel="noopener noreferrer" style="box-sizing: border-box\; transition: 0.5s\; background-color: transparent\; color: rgb(0\, 0\, 0)\; text-decoration-line: none\; user-select: auto\;" target="_blank">website</a>. NO in-person floor bids. We will be accepting phone bids placed with the gallery. For a phone bid form\, please email&nbsp\;<a href="mailto:lori.taylor@quinnsauction.com?subject=Fine%20and%20Decorative%20Arts%20Auction" style="box-sizing: border-box\; transition: 0.5s\; background-color: transparent\; color: rgb(0\, 0\, 0)\; text-decoration-line: none\; user-select: auto\;" target="_blank">lori.taylor@quinnsauction.com</a></p>\n\n<p>Open Preview:<br />\nMon. Jan. 20th &ndash\; Thurs. Jan. 23rd<br />\n11am to 4pm</p>\n\n<p>&nbsp\;</p>\n
LOCATION:
UID:e.1250.78900
SEQUENCE:3
DTSTAMP:20260421T040251Z
URL:https://business.fallschurchchamber.org/events/details/quinn-s-auction-galleries-fine-and-decorative-arts-auction-01-24-2025-78900
END:VEVENT

END:VCALENDAR
