BEGIN:VCALENDAR
VERSION:2.0
PRODID:-//ChamberMaster//Event Calendar 2.0//EN
METHOD:PUBLISH
X-PUBLISHED-TTL:P3D
REFRESH-INTERVAL:P3D
CALSCALE:GREGORIAN
BEGIN:VEVENT
DTSTART:20230502T180000Z
DTEND:20230502T160000Z
X-MICROSOFT-CDO-ALLDAYEVENT:FALSE
SUMMARY:Quinn's Auction Galleries May Fine Jewelry AUCTION***ONLINE ONLY***
DESCRIPTION:MAY FINE JEWELRY AUCTION \n\nTuesday\, May 2nd at 12:00pm EST\n\nQuinn's Auction Galleries is proud to present our May Fine Jewelry Auction. Featuring an array of beautifully crafted women's and men's jewelry including 2.0 carat total weight diamond solitaire earrings\, Jaeger LeCoultre 18 karat yellow gold and steel reverso duetto\, and Rolex Oyster perpetual superlative chronograph.\n\nOpen Preview Dates: \n\nThurs. and Fri. April 27th & 28th 11:00a-4:00p\n\nMon. May 1st 11:00a-4:00p\n\nIf you would like to request a condition report or have any questions\, please contact Stephen Silvia at stephen.silvia@quinnsauction.com or call (703)532-5632 x520. For an extensive shipper's list contact shipping@quinnsauction.com.\n\n\n\nClick here for auction!
X-ALT-DESC;FMTTYPE=text/html:<h3><a href="https://quinnsauction.appspot.com/auctions/dj6KcTnz6O6lN9zS9pbj/a/Q1142-May-Fine-Jewelry-Auction" style="box-sizing: border-box\; transition: all 0.5s ease 0s\; background-color: transparent\; color: rgb(0\, 0\, 0)\; text-decoration-line: none\; user-select: auto\;"><strong>MAY FINE JEWELRY AUCTION</strong></a>&nbsp\;</h3>\n\n<p>Tuesday\, May 2nd at 12:00pm EST</p>\n\n<p>Quinn&#39\;s Auction Galleries is proud to present our May Fine Jewelry Auction. Featuring an array of beautifully crafted women&#39\;s and men&#39\;s jewelry including 2.0 carat total weight diamond solitaire earrings\, Jaeger LeCoultre 18 karat yellow gold and steel reverso duetto\, and Rolex Oyster perpetual superlative chronograph.</p>\n\n<p><strong>Open Preview Dates:</strong>&nbsp\;</p>\n\n<p>Thurs. and Fri. April 27th &amp\; 28th 11:00a-4:00p</p>\n\n<p>Mon. May 1st 11:00a-4:00p</p>\n\n<p>If you would like to request a condition report or have any questions\, please contact Stephen Silvia at&nbsp\;<a href="mailto:stephen.silvia@quinnsauction.com" style="box-sizing: border-box\; transition: all 0.5s ease 0s\; background-color: transparent\; color: rgb(0\, 0\, 0)\; text-decoration-line: none\; user-select: auto\;">stephen.silvia@quinnsauction.com</a>&nbsp\;or call (703)532-5632 x520. For an extensive shipper&#39\;s list contact&nbsp\;<a href="mailto:shipping@quinnsauction.com" style="box-sizing: border-box\; transition: all 0.5s ease 0s\; background-color: transparent\; color: rgb(0\, 0\, 0)\; text-decoration-line: none\; user-select: auto\;">shipping@quinnsauction.com</a>.<br />\n<br />\nClick&nbsp\;<a href="https://quinnsauction.appspot.com/auctions/dj6KcTnz6O6lN9zS9pbj/a/Q1142-May-Fine-Jewelry-Auction" style="box-sizing: border-box\; transition: all 0.5s ease 0s\; background-color: transparent\; color: rgb(0\, 0\, 0)\; text-decoration-line: none\; user-select: auto\;">here</a>&nbsp\;for auction!</p>\n
LOCATION:Quinn's Auction Gallery 360 S. Washington Street Falls Church\, VA
UID:e.1250.67462
SEQUENCE:3
DTSTAMP:20260421T082215Z
URL:https://business.fallschurchchamber.org/events/details/quinn-s-auction-galleries-may-fine-jewelry-auction-online-only-67462
END:VEVENT

END:VCALENDAR
