BEGIN:VCALENDAR
VERSION:2.0
PRODID:-//ChamberMaster//Event Calendar 2.0//EN
METHOD:PUBLISH
X-PUBLISHED-TTL:P3D
REFRESH-INTERVAL:P3D
CALSCALE:GREGORIAN
BEGIN:VEVENT
DTSTART:20250325T140000Z
DTEND:20250325T170000Z
X-MICROSOFT-CDO-ALLDAYEVENT:FALSE
SUMMARY:Quinn's Auction Galleries Netsuke Auction ***ONLINE ONLY***
DESCRIPTION:Netsuke Auction\n\nTuesday\, March 25th\, 2025\, starting at 1:00 pm ET\n\n\n\nQuinn's Auction Galleries is proud to present our Netsuke Auction. Featuring netsuke\, kashira\, fuchi\, kozuka\, and menuki.\n\nSALE INFO:\n\nMarch 11th\n\nFirst lot closing at 12:00pm Eastern\n\n27% Buyer's Premium\n\nAbsentee bidding available on HiBid.\n\nLive bidding on Invaluable.\n\n\n\nPREVIEW INFO:\n\nMar. 18th-21st 11:00am-4:00pm\n\nMar. 24th 11:00am-4:00pm\n\nNO preview on weekends.\n\nTo request a condition report\, please email corrie@quinnsauction.com\n\nPICKUP INFO:\n\nMar. 26th-28th 10:30am-5:30pm\n\nMar. 31st- Apr. 4th 10:30am-5:30pm\n\nApr. 7th-11th 10:30am-5:30pm\n\nNo weekend pick up. \n\nNO IN HOUSE SHIPPING. \n\nContact shipping@quinnsauction.com for our shipping partner list.
X-ALT-DESC;FMTTYPE=text/html:<h3><a href="https://quinnsauction.hibid.com/catalog/625396/netsuke-auction-03-25-2025" rel="noopener noreferrer" style="box-sizing: border-box\; transition: 0.5s\; background-color: transparent\; color: rgb(0\, 0\, 0)\; text-decoration-line: none\; user-select: auto\;" target="_blank">Netsuke Auction</a></h3>\n\n<p>Tuesday\, March 25th\, 2025\, starting at 1:00 pm ET<br />\n<br />\nQuinn&#39\;s Auction Galleries is proud to present our Netsuke Auction. Featuring netsuke\, kashira\, fuchi\, kozuka\, and menuki.</p>\n\n<p><strong>SALE INFO:</strong><br />\nMarch 11th<br />\nFirst lot closing at 12:00pm Eastern<br />\n27% Buyer&#39\;s Premium<br />\nAbsentee bidding available on&nbsp\;<a href="https://quinnsauction.hibid.com/catalog/625396/netsuke-auction-03-25-2025" style="box-sizing: border-box\; transition: 0.5s\; background-color: transparent\; color: rgb(0\, 0\, 0)\; text-decoration-line: none\; user-select: auto\;">HiBid</a>.<br />\nLive bidding on&nbsp\;<a href="https://www.invaluable.com/catalog/tiowktzujq?page=1&amp\;size=48" style="box-sizing: border-box\; transition: 0.5s\; background-color: transparent\; color: rgb(0\, 0\, 0)\; text-decoration-line: none\; user-select: auto\;">Invaluable</a>.<br />\n<br />\n<strong>PREVIEW INFO:</strong><br />\nMar. 18th-21st 11:00am-4:00pm<br />\nMar. 24th 11:00am-4:00pm<br />\n<strong>NO preview on weekends.</strong><br />\nTo request a condition report\, please email&nbsp\;<a href="mailto:corrie@quinnsauction.com" style="box-sizing: border-box\; transition: 0.5s\; background-color: transparent\; color: rgb(0\, 0\, 0)\; text-decoration-line: none\; user-select: auto\;">corrie@quinnsauction.com</a></p>\n\n<p><strong>PICKUP INFO:</strong><br />\nMar. 26th-28th 10:30am-5:30pm<br />\nMar. 31st- Apr. 4th 10:30am-5:30pm<br />\nApr. 7th-11th 10:30am-5:30pm<br />\n<strong>No weekend pick up.</strong>&nbsp\;</p>\n\n<p><strong>NO IN HOUSE SHIPPING.</strong>&nbsp\;<br />\nContact shipping@quinnsauction.com for our shipping partner list.</p>\n\n<p>&nbsp\;</p>\n
LOCATION:Quinn's Auction Galleries 360 S. Washington Street Falls Church\, VA
UID:e.1250.79290
SEQUENCE:3
DTSTAMP:20260420T132552Z
URL:https://business.fallschurchchamber.org/events/details/quinn-s-auction-galleries-netsuke-auction-online-only-79290
END:VEVENT

END:VCALENDAR
