BEGIN:VCALENDAR
VERSION:2.0
PRODID:-//ChamberMaster//Event Calendar 2.0//EN
METHOD:PUBLISH
X-PUBLISHED-TTL:P3D
REFRESH-INTERVAL:P3D
CALSCALE:GREGORIAN
BEGIN:VEVENT
DTSTART:20250826T140000Z
DTEND:20250826T160000Z
X-MICROSOFT-CDO-ALLDAYEVENT:FALSE
SUMMARY:Quinn's Auction Galleries Seashells\, Minerals & Rocks Auction ***ONLINE ONLY***
DESCRIPTION:Quinn's Auction Galleries Seashells\, Minerals & Rocks Auction\nAugust 26th 2025 \n\nFirst lot closing at 12:00pm\n\n25% Buyers Premium on all lots\n\n\n\nAn extensive and diverse collection of natural history and decorative specimens\, featuring an impressive assortment of large and rare sea shells\, corals\, and marine curiosities alongside a wide variety of minerals\, crystals\, and fossils. Highlights include helmet shells\, Triton's trumpets\, volutes\, nautilus\, and carved cameo shells\, as well as unique coral formations and handpicked coastal finds. The mineral and fossil selection spans amethyst\, quartz\, petrified wood\, pyrite\, jasper\, agate\, and rare ammonites\, with examples from notable locations worldwide. Many pieces are mounted on stands or housed in display cases\, with sizes ranging from small cabinet specimens to substantial display pieces. This single offering presents an exceptional opportunity for collectors\, decorators\, and enthusiasts of natural wonders.\n\n \n**NEW PICKUP POLICY: MUST PRESENT PHOTO ID\, CREDIT CARD\, AND PAID INVOICE AT PICKUP**\n\nPICKUP INFO:\n\nFalls Church\, VA\n\nRemoval by appointment only Thursday\, August 28\, 2025 9:40 AM to 2:00 PM\n\nScheduling link provided in winners' invoice
X-ALT-DESC;FMTTYPE=text/html:<p><span style="font-family:arial\,helvetica\,sans-serif"><a href="https://quinnsauction.appspot.com/auctions/lBpOCfL5BgBGhCIimeRx/a/Rocks-Shells-Minerals" style="box-sizing: border-box\; transition: all 0.5s ease 0s\; background-color: transparent\; color: rgb(0\, 0\, 0)\; text-decoration-line: none\; user-select: auto\;"><strong><span style="font-size:18px">Quinn&#39\;s Auction Galleries Seashells\, Minerals &amp\; Rocks Auction</span></strong></a></span></p>\n<span style="font-size:14px"><span style="font-family:arial\,helvetica\,sans-serif">August 26th 2025&nbsp\;<br />\nFirst lot closing at 12:00pm</span><br />\n<span style="font-family:arial\,helvetica\,sans-serif">25% Buyers Premium on all lots<br />\n<br />\nAn extensive and diverse collection of natural history and decorative specimens\, featuring an impressive assortment of large and rare sea shells\, corals\, and marine curiosities alongside a wide variety of minerals\, crystals\, and fossils. Highlights include helmet shells\, Triton&rsquo\;s trumpets\, volutes\, nautilus\, and carved cameo shells\, as well as unique coral formations and handpicked coastal finds. The mineral and fossil selection spans amethyst\, quartz\, petrified wood\, pyrite\, jasper\, agate\, and rare ammonites\, with examples from notable locations worldwide. Many pieces are mounted on stands or housed in display cases\, with sizes ranging from small cabinet specimens to substantial display pieces. This single offering presents an exceptional opportunity for collectors\, decorators\, and enthusiasts of natural wonders.</span></span><br />\n&nbsp\;\n<p><span style="font-size:14px">**NEW PICKUP POLICY: MUST PRESENT PHOTO ID\, CREDIT CARD\, AND PAID INVOICE AT PICKUP**</span></p>\n\n<p><span style="font-size:14px">PICKUP INFO:<br />\nFalls Church\, VA<br />\nRemoval by appointment only <span style="font-family:roboto\,helvetica neue\,sans-serif">Thursday\, August 28\, 2025 9:40 AM&nbsp\;</span><span style="font-family:roboto\,helvetica neue\,sans-serif">to&nbsp\;</span><span style="font-family:roboto\,helvetica neue\,sans-serif">2:00 PM</span><br />\nScheduling link provided in winners&#39\; invoice</span></p>\n
LOCATION:
UID:e.1250.81316
SEQUENCE:3
DTSTAMP:20260420T103334Z
URL:https://business.fallschurchchamber.org/events/details/quinn-s-auction-galleries-seashells-minerals-rocks-auction-online-only-81316
END:VEVENT

END:VCALENDAR
