BEGIN:VCALENDAR
VERSION:2.0
PRODID:-//ChamberMaster//Event Calendar 2.0//EN
METHOD:PUBLISH
X-PUBLISHED-TTL:P3D
REFRESH-INTERVAL:P3D
CALSCALE:GREGORIAN
BEGIN:VEVENT
DTSTART:20250319T140000Z
DTEND:20250319T183000Z
X-MICROSOFT-CDO-ALLDAYEVENT:FALSE
SUMMARY:Quinn's Jewelry Verbal Appraisal Day
DESCRIPTION:Free Jewelry Appraisal Day\n\n\n\nSign up for a "Verbal Appraisal" slot if you would like a free verbal evaluation of your pieces from our jewelry specialist\, Stephen Silvia\, before possibly consigning. There will be staff on hand to assist you if you choose to consign on the spot! \n\nFor these appointments\, please allow one 30-minute time slot for every 15 pieces of jewelry you want reviewed. (Ex. for 28 pieces\, sign up for two consecutive time slots.)\n\nIf the time slots shown don't work for you\, please email us at info@quinnsauction.com to schedule an alternate appointment.\n\nWe look forward to seeing you at our March Jewelry Appraisal Day Event!
X-ALT-DESC;FMTTYPE=text/html:<p><a href="https://www.signupgenius.com/go/30E044EAFAC2BA3F94-55562655-jewelry#/" style="box-sizing: border-box\; transition: 0.5s\; background-color: transparent\; color: rgb(0\, 0\, 0)\; text-decoration-line: none\; user-select: auto\;"><span style="font-size:18px"><strong>Free Jewelry Appraisal Day</strong></span></a><br />\n<br />\n<a href="https://www.signupgenius.com/go/30E044EAFAC2BA3F94-45377149-jewelry#/" style="box-sizing: border-box\; transition: 0.5s\; background-color: transparent\; color: rgb(0\, 0\, 0)\; text-decoration-line: none\; user-select: auto\;">Sign up</a>&nbsp\;for a &quot\;Verbal Appraisal&quot\; slot if you would like a free verbal evaluation of your pieces from our jewelry specialist\, Stephen Silvia\, before possibly consigning. There will be staff on hand to assist you if you choose to consign on the spot!&nbsp\;</p>\n\n<p>For these appointments\, please allow&nbsp\;<strong>one 30-minute time slot for every 15 pieces of jewelry</strong>&nbsp\;you want reviewed. (Ex. for 28 pieces\, sign up for two consecutive time slots.)</p>\n\n<p>If the time slots&nbsp\;shown don&rsquo\;t work for you\, please email us at info@quinnsauction.com to schedule an alternate appointment.</p>\n\n<p>We look forward to seeing you at our March Jewelry Appraisal Day Event!</p>\n
LOCATION:Quinn's Auction Galleries 360 S. Washington St Falls Church\, VA 22046
UID:e.1250.79292
SEQUENCE:3
DTSTAMP:20260420T120738Z
URL:https://business.fallschurchchamber.org/events/details/quinn-s-jewelry-verbal-appraisal-day-03-19-2025-79292
END:VEVENT

END:VCALENDAR
