BEGIN:VCALENDAR
VERSION:2.0
PRODID:-//ChamberMaster//Event Calendar 2.0//EN
METHOD:PUBLISH
X-PUBLISHED-TTL:P3D
REFRESH-INTERVAL:P3D
CALSCALE:GREGORIAN
BEGIN:VEVENT
DTSTART:20250103T150000Z
DTEND:20250103T170000Z
X-MICROSOFT-CDO-ALLDAYEVENT:FALSE
SUMMARY:Quinn's QP257 Vienna\, VA In-Home Online Auction ***ONLINE ONLY***
DESCRIPTION:QP257 Vienna VA In-Home Online Auction\n\nJanuary 3rd\, 2025\n\n\n\nFirst lot closing at 12:00PM\n\nQuinn's Auction Galleries presents a Vienna VA in-home online only auction. This auction features art\, furniture\, books\, home goods\, tableware and more. Please bring appropriate assistance for removal. We will not be able to offer assistance. \n\n\n\nNO SHIPPING AVAILABLE FOR THIS AUCTION. REMOVAL FROM PRIVATE RESIDENCE ON DESIGNATED REMOVAL DATES ONLY.\n\n\n\nAddress for pickup will be provided to all winners via auction invoice post closing. Please bring your own dollies\, boxes\, and packaging material for removal. It will not be provided for you. **Scheduled removal windows are FIRM. There will be no accommodations made. If you do not come at your designated pickup time your lots will be forfeited without refund **. Please review removal schedule prior to bidding & coordinate adequate moving assistance.\n\nRemoval date -  \n\nJanuary 6th & 7th 9:40AM to 3:00PM\n\nNo shipping available for this auction.\n\n\n\nPlease note 25% buyers premium\n\n\n\nREMOVAL BY APPOINTMENT ONLY! \n\nThe auction will be an online-only auction. Lots will have a soft close with rolling close times. The auction will begin to close on January 3rd with the first lot closing at 12:00PM. You will NOT be able to leave bids on our website.\n\n\n	No in person inspection available   please email with questions about items\n	Pick up will take place in Vienna on January 6th and 7th from 9:40AM-3:00PM by appointment only via SignUpGenius.\n	Terms & Conditions can be found by following the link above. They are in the left hand bar.\n\n\nClick link above to view the auction and join in the fun!
X-ALT-DESC;FMTTYPE=text/html:<p>&nbsp\;</p>\n\n<p><a href="https://quinnsauction.appspot.com/auctions/2S3anzkEiYMsHpe80S26/a/QP257-Vienna--VA-In-Home-Online-Auction" style="box-sizing: border-box\; transition: 0.5s\; background-color: transparent\; color: rgb(0\, 0\, 0)\; text-decoration-line: none\; user-select: auto\;"><span style="font-size:18px">QP257 Vienna VA In-Home Online Auction</span></a></p>\n\n<p>January 3rd\, 2025<br />\n<br />\nFirst lot closing at 12:00PM</p>\n\n<p>Quinn&#39\;s Auction Galleries presents a Vienna VA in-home online only auction. This auction features art\, furniture\, books\, home goods\, tableware and more. Please bring appropriate assistance for removal. We will not be able to offer assistance.&nbsp\;</p>\n\n<p><br />\n<strong>NO SHIPPING AVAILABLE FOR THIS AUCTION. REMOVAL FROM PRIVATE RESIDENCE ON DESIGNATED REMOVAL DATES ONLY.</strong><br />\n<br />\nAddress for pickup will be provided to all winners via auction invoice post closing. Please bring your own dollies\, boxes\, and packaging material for removal. It will not be provided for you.&nbsp\;<strong>**Scheduled removal windows are FIRM. There will be no accommodations made. If you do not come at your designated pickup time your lots will be forfeited without refund **.</strong>&nbsp\;Please review removal schedule prior to bidding &amp\; coordinate adequate moving assistance.</p>\n\n<p>Removal date - &nbsp\;<br />\nJanuary 6th &amp\; 7th 9:40AM to 3:00PM</p>\n\n<p><strong>No shipping available for this auction.</strong><br />\n<br />\nPlease note&nbsp\;<strong>25% buyers premium</strong><br />\n<br />\n<strong>REMOVAL BY APPOINTMENT ONLY!</strong>&nbsp\;</p>\n\n<p>The auction will be an online-only auction. Lots will have a soft close with rolling close times. The auction will begin to close on January 3rd with the first lot closing at 12:00PM. You will NOT be able to leave bids on our website.</p>\n\n<ul>\n	<li>No in person inspection available &ndash\; please email with questions about items</li>\n	<li>Pick up will take place in Vienna on January 6th and 7th from 9:40AM-3:00PM&nbsp\;<u>by appointment only via SignUpGenius</u>.</li>\n	<li>Terms &amp\; Conditions can be found by following the link above. They are in the left hand bar.</li>\n</ul>\n\n<p>Click link above to view the auction and join in the fun!</p>\n
LOCATION:
UID:e.1250.78887
SEQUENCE:3
DTSTAMP:20260421T054548Z
URL:https://business.fallschurchchamber.org/events/details/quinn-s-qp257-vienna-va-in-home-online-auction-online-only-78887
END:VEVENT

END:VCALENDAR
