BEGIN:VCALENDAR
VERSION:2.0
PRODID:-//ChamberMaster//Event Calendar 2.0//EN
METHOD:PUBLISH
X-PUBLISHED-TTL:P3D
REFRESH-INTERVAL:P3D
CALSCALE:GREGORIAN
BEGIN:VEVENT
DTSTART:20250124T150000Z
DTEND:20250124T170000Z
X-MICROSOFT-CDO-ALLDAYEVENT:FALSE
SUMMARY:Quinn's QP263 Arlington\, VA In-Home Online Auction ***ONLINE ONLY***
DESCRIPTION:QP263 Arlington VA In-Home Online Auction\n\nFeatures furniture\, collectible items\, home goods\, tools and more.\n\nSALE INFO:\n\nJanuary 24th\, 2025\n\nFirst lot closing at 12:00PM Eastern\n\nOnline Only Auction\n\n25% Buyers Premium\n\nTerms & Conditions can be found by following the link\, in the left hand bar of the sale page.\n\nNo in person inspection available - please email with questions about items\n\nPICKUP INFO:\n\nArlington\, VA\n\nJanuary 27th 9:30am to 3:00pm\n\nAddress for pickup and appointment signup provided to winners via auction invoice.\n\nPlease bring appropriate assistance for removal. We will not be able to offer assistance.\n\nIf you do not come at your designated pickup time your lots will be forfeited without refund.\n\nNo shipping available for this auction.
X-ALT-DESC;FMTTYPE=text/html:<p><a href="https://quinnsauction.appspot.com/auctions/Fsex0zSUrs2Ilox506fo/a/QP263-Arlington--VA-In-Home-Online-Auction" style="box-sizing: border-box\; transition: 0.5s\; background-color: transparent\; color: rgb(0\, 0\, 0)\; text-decoration-line: none\; user-select: auto\;"><span style="font-size:18px">QP263 Arlington VA In-Home Online Auction</span></a></p>\n\n<p>Features furniture\, collectible items\, home goods\, tools and more.</p>\n\n<p><strong>SALE INFO:</strong><br />\nJanuary 24th\, 2025<br />\nFirst lot closing at 12:00PM Eastern<br />\nOnline Only Auction<br />\n25% Buyers Premium<br />\nTerms &amp\; Conditions can be found by following the link\, in the left hand bar of the sale page.<br />\nNo in person inspection available - please email with questions about items</p>\n\n<p><strong>PICKUP INFO:</strong><br />\nArlington\, VA<br />\nJanuary 27th 9:30am to 3:00pm<br />\nAddress for pickup and appointment signup provided to winners via auction invoice.<br />\nPlease bring appropriate assistance for removal. We will not be able to offer assistance.<br />\n<strong>If you do not come at your designated pickup time your lots will be forfeited without refund.</strong><br />\n<strong>No shipping available for this auction.</strong></p>\n
LOCATION:
UID:e.1250.78901
SEQUENCE:3
DTSTAMP:20260421T040250Z
URL:https://business.fallschurchchamber.org/events/details/quinn-s-qp263-arlington-va-in-home-online-auction-online-only-78901
END:VEVENT

END:VCALENDAR
