BEGIN:VCALENDAR
VERSION:2.0
PRODID:-//ChamberMaster//Event Calendar 2.0//EN
METHOD:PUBLISH
X-PUBLISHED-TTL:P3D
REFRESH-INTERVAL:P3D
CALSCALE:GREGORIAN
BEGIN:VEVENT
DTSTART:20120304T180000Z
DTEND:20120304T203000Z
X-MICROSOFT-CDO-ALLDAYEVENT:FALSE
SUMMARY:"Recycle Your Closet" Folk Couture Workshop at Stifel & Capra
DESCRIPTION:Learn how you can make your own upcycled clothing piece from favorite remnants with the help of Grace Napoleon of Folk Couture.  Just bring 3-4 pieces of clothing you are willing to cut up...Grace brings the scissors\, needles\, thread\, buttons and scraps...and in a couple of hours you will leave with a brand new "folk couture inspired" piece of your very own.  $50 per person...sign up with a friend (or 2) and save 10%. Space is limited so book early! Reserve your space at folkcouture@gmail.com
X-ALT-DESC;FMTTYPE=text/html:<p style="margin:0in\;margin-bottom:.0001pt\;background:white">\n	&nbsp\;</p>\n<p style="margin:0in\;margin-bottom:.0001pt\;background:white">\n	<span style="font-size:11.0pt\;font-family:" trebuchet="">Learn how you can make your own upcycled clothing piece from favorite remnants with the help of Grace Napoleon of Folk Couture.&nbsp\;<span class="apple-converted-space">&nbsp\;</span>Just bring 3-4 pieces of clothing you are willing to cut up...Grace brings the scissors\, needles\, thread\, buttons and scraps...and in a couple of hours you will leave with a brand new &quot\;folk couture inspired&quot\; piece of your very own.&nbsp\; $50 per person...sign up with a friend (or 2) and save 10%. Space is limited so book early! Reserve your space at<span class="apple-converted-space">&nbsp\;</span></span><a href="mailto:folkcouture@gmail.com" target="_blank"><span style="font-size:\n11.0pt\;font-family:" trebuchet="">folkcouture@gmail.com</span></a></p>\n
LOCATION:Stifel & Capra\, 260 West Broad Street Falls Church\, VA 22046
UID:e.1250.216
SEQUENCE:3
DTSTAMP:20260425T135329Z
URL:https://business.fallschurchchamber.org/events/details/recycle-your-closet-folk-couture-workshop-at-stifel-capra-03-04-2012-216
END:VEVENT

END:VCALENDAR
