BEGIN:VCALENDAR
VERSION:2.0
PRODID:-//ChamberMaster//Event Calendar 2.0//EN
METHOD:PUBLISH
X-PUBLISHED-TTL:P3D
REFRESH-INTERVAL:P3D
CALSCALE:GREGORIAN
BEGIN:VEVENT
DTSTART:20110923T140000Z
DTEND:20110923T200000Z
X-MICROSOFT-CDO-ALLDAYEVENT:FALSE
SUMMARY:Red Cross Blood Drive
DESCRIPTION:Blood Drive - Virginia Commerce Bank in Falls Church is hosting a Blood Drive with the American Red Cross on Friday\, Sept. 23 from 10am - 4pm. For more information or to book an appointment\, contact Kimberly Bradford at kbradford@VCBOnline.com or 703-962-5510.
X-ALT-DESC;FMTTYPE=text/html:<p style="margin-top: 0px\; margin-bottom: 0px">\n	<span style="font-family: arial"><strong>Blood Drive - Virginia Commerce Bank</strong> in Falls Church&nbsp\;is hosting a Blood Drive with the American Red Cross on <em><strong>Friday\, Sept. 23</strong></em> from 10am - 4pm. For more information or to book an appointment\, contact Kimberly Bradford at </span><a href="mailto:kbradford@VCBOnline.com" shape="rect" target="_blank"><span style="font-family: arial"><font color="#348900">kbradford@VCBOnline.com</font></span></a><span style="font-family: arial"> or 703-962-5510.<span _fck_bookmark="1" style="display: none">&nbsp\;</span></span></p>\n
LOCATION:
UID:e.1250.20
SEQUENCE:3
DTSTAMP:20260423T044532Z
URL:https://business.fallschurchchamber.org/events/details/red-cross-blood-drive-09-23-2011-20
END:VEVENT

END:VCALENDAR
